BEGIN:VCALENDAR
VERSION:2.0
PRODID:-//Moira-Domtoren - ECPv6.15.11//NONSGML v1.0//EN
CALSCALE:GREGORIAN
METHOD:PUBLISH
X-WR-CALNAME:Moira-Domtoren
X-ORIGINAL-URL:https://www.moira-domtoren.nl
X-WR-CALDESC:Evenementen voor Moira-Domtoren
REFRESH-INTERVAL;VALUE=DURATION:PT1H
X-Robots-Tag:noindex
X-PUBLISHED-TTL:PT1H
BEGIN:VTIMEZONE
TZID:Europe/Amsterdam
BEGIN:DAYLIGHT
TZOFFSETFROM:+0100
TZOFFSETTO:+0200
TZNAME:CEST
DTSTART:20230326T010000
END:DAYLIGHT
BEGIN:STANDARD
TZOFFSETFROM:+0200
TZOFFSETTO:+0100
TZNAME:CET
DTSTART:20231029T010000
END:STANDARD
BEGIN:DAYLIGHT
TZOFFSETFROM:+0100
TZOFFSETTO:+0200
TZNAME:CEST
DTSTART:20240331T010000
END:DAYLIGHT
BEGIN:STANDARD
TZOFFSETFROM:+0200
TZOFFSETTO:+0100
TZNAME:CET
DTSTART:20241027T010000
END:STANDARD
BEGIN:DAYLIGHT
TZOFFSETFROM:+0100
TZOFFSETTO:+0200
TZNAME:CEST
DTSTART:20250330T010000
END:DAYLIGHT
BEGIN:STANDARD
TZOFFSETFROM:+0200
TZOFFSETTO:+0100
TZNAME:CET
DTSTART:20251026T010000
END:STANDARD
END:VTIMEZONE
BEGIN:VEVENT
DTSTART;TZID=Europe/Amsterdam:20240830T194500
DTEND;TZID=Europe/Amsterdam:20240830T233000
DTSTAMP:20260421T193355
CREATED:20240623T171428Z
LAST-MODIFIED:20240623T171918Z
UID:72581-1725047100-1725060600@www.moira-domtoren.nl
SUMMARY:Interne competitie
DESCRIPTION:Meedoen? Meld je aan op het inschrijfformulier op de website. Dat kan tot uiterlijk vrijdag 19:30. Aanmelden in de speelzaal kan tot uiterlijk 19:45. Info: wedstr@moira-domtoren.nl
URL:https://www.moira-domtoren.nl/event/interne-competitie-7/
END:VEVENT
BEGIN:VEVENT
DTSTART;TZID=Europe/Amsterdam:20240830T181500
DTEND;TZID=Europe/Amsterdam:20240830T193000
DTSTAMP:20260421T193355
CREATED:20240519T160846Z
LAST-MODIFIED:20240728T142847Z
UID:72334-1725041700-1725046200@www.moira-domtoren.nl
SUMMARY:Jeugdschaak
DESCRIPTION:
URL:https://www.moira-domtoren.nl/event/jeugdschaak-8/
END:VEVENT
BEGIN:VEVENT
DTSTART;TZID=Europe/Amsterdam:20240807T150000
DTEND;TZID=Europe/Amsterdam:20240811T180000
DTSTAMP:20260421T193355
CREATED:20240805T172054Z
LAST-MODIFIED:20240805T183116Z
UID:72613-1723042800-1723399200@www.moira-domtoren.nl
SUMMARY:Tweekamp Hans Niemann vs. Anish Giri
DESCRIPTION:Van woensdag 7 tot en met zondag 11 augustus zal het Utrechtse stadhuis het decor zijn van een schaaktweekamp tussen de grootmeesters Hans Niemann en Anish Giri. De match bestaat uit de onderdelen blitz\, rapid en in totaal 6 lange partijen en is online te volgen of live in het Stadhuis in Utrecht.
URL:https://www.moira-domtoren.nl/event/tweekamp-hans-niemann-vs-anish-giri/
END:VEVENT
BEGIN:VEVENT
DTSTART;TZID=Europe/Amsterdam:20240621T194500
DTEND;TZID=Europe/Amsterdam:20240621T223000
DTSTAMP:20260421T193355
CREATED:20240519T155847Z
LAST-MODIFIED:20240519T160159Z
UID:72318-1718999100-1719009000@www.moira-domtoren.nl
SUMMARY:Midzomerrapid
DESCRIPTION:Derde en laatste speelavond van de Midzomerrapid\, met ronde 6 t/m 9. Prijsuitreiking direct na de laatste ronde. De EK-wedstrijd Nederland-Frankrijk is te volgen op groot scherm in de grote zaal. \nMeedoen? Meld je aan op het inschrijfformulier op de website. Dat kan tot uiterlijk vrijdag 19:30. Aanmelden in de speelzaal kan tot uiterlijk 19:45. Info: wedstr@moira-domtoren.nl
URL:https://www.moira-domtoren.nl/event/midzomerrapid-3/
END:VEVENT
BEGIN:VEVENT
DTSTART;TZID=Europe/Amsterdam:20240621T181500
DTEND;TZID=Europe/Amsterdam:20240621T193000
DTSTAMP:20260421T193355
CREATED:20240519T160815Z
LAST-MODIFIED:20240519T160815Z
UID:72332-1718993700-1718998200@www.moira-domtoren.nl
SUMMARY:Jeugdschaak
DESCRIPTION:
URL:https://www.moira-domtoren.nl/event/jeugdschaak-7/
END:VEVENT
BEGIN:VEVENT
DTSTART;TZID=Europe/Amsterdam:20240614T194500
DTEND;TZID=Europe/Amsterdam:20240614T223000
DTSTAMP:20260421T193355
CREATED:20240519T155712Z
LAST-MODIFIED:20240519T160217Z
UID:72316-1718394300-1718404200@www.moira-domtoren.nl
SUMMARY:Midzomerrapid
DESCRIPTION:Tweede speelavond van de Midzomerrapid\, met ronde 4 t/m 6. Meedoen? Meld je aan op het inschrijfformulier op de website. Dat kan tot uiterlijk vrijdag 19:30. Aanmelden in de speelzaal kan tot uiterlijk 19:45. Info: wedstr@moira-domtoren.nl
URL:https://www.moira-domtoren.nl/event/midzomerrapid-2/
END:VEVENT
BEGIN:VEVENT
DTSTART;TZID=Europe/Amsterdam:20240614T181500
DTEND;TZID=Europe/Amsterdam:20240614T194500
DTSTAMP:20260421T193355
CREATED:20240519T160737Z
LAST-MODIFIED:20240519T160737Z
UID:72330-1718388900-1718394300@www.moira-domtoren.nl
SUMMARY:Jeugdschaak: stappenexamens
DESCRIPTION:
URL:https://www.moira-domtoren.nl/event/jeugdschaak-stappenexamens/
END:VEVENT
BEGIN:VEVENT
DTSTART;TZID=Europe/Amsterdam:20240608T094500
DTEND;TZID=Europe/Amsterdam:20240608T171500
DTSTAMP:20260421T193355
CREATED:20240602T151801Z
LAST-MODIFIED:20240602T151801Z
UID:72426-1717839900-1717866900@www.moira-domtoren.nl
SUMMARY:Open Rapidkampioenschap van Moira-Domtoren
DESCRIPTION:Het 20e Rapidtoernooi van schaakvereniging Moira-Domtoren in een nieuw jasje \nGraag al om 9.45 melden in de zaal\, zodat de definitieve indeling en opening op tijd kunnen plaatsvinden.
URL:https://www.moira-domtoren.nl/event/open-rapidkampioenschap-van-moira-domtoren/
LOCATION:Rode Kruisgebouw\, Koningsweg 2\, Utrecht\, 3582 GE\, Nederland
ORGANIZER;CN="SV Moira-Domtoren%3B contactpersoon Klaas Ouwens":MAILTO:klaasouwens@live.nl
END:VEVENT
BEGIN:VEVENT
DTSTART;TZID=Europe/Amsterdam:20240607T194500
DTEND;TZID=Europe/Amsterdam:20240607T231500
DTSTAMP:20260421T193355
CREATED:20240519T160038Z
LAST-MODIFIED:20240519T160038Z
UID:72320-1717789500-1717802100@www.moira-domtoren.nl
SUMMARY:Interne competitie
DESCRIPTION:Meedoen? Meld je aan op het inschrijfformulier op de website. Dat kan tot uiterlijk vrijdag 19:30. Aanmelden in de speelzaal kan tot uiterlijk 19:45. Info: wedstr@moira-domtoren.nl
URL:https://www.moira-domtoren.nl/event/interne-competitie-6/
END:VEVENT
BEGIN:VEVENT
DTSTART;TZID=Europe/Amsterdam:20240607T181500
DTEND;TZID=Europe/Amsterdam:20240607T193000
DTSTAMP:20260421T193355
CREATED:20240519T160643Z
LAST-MODIFIED:20240519T160643Z
UID:72328-1717784100-1717788600@www.moira-domtoren.nl
SUMMARY:Jeugdschaak
DESCRIPTION:
URL:https://www.moira-domtoren.nl/event/jeugdschaak-6/
END:VEVENT
BEGIN:VEVENT
DTSTART;TZID=Europe/Amsterdam:20240531T194500
DTEND;TZID=Europe/Amsterdam:20240531T223000
DTSTAMP:20260421T193355
CREATED:20240519T155529Z
LAST-MODIFIED:20240519T160504Z
UID:72314-1717184700-1717194600@www.moira-domtoren.nl
SUMMARY:Midzomerrapid
DESCRIPTION:Eerste speelavond van de Midzomerrapid\, met ronde 1 t/m 3. Meedoen? Meld je aan op het inschrijfformulier op de website. Dat kan tot uiterlijk vrijdag 19:30. Aanmelden in de speelzaal kan tot uiterlijk 19:45. Info: wedstr@moira-domtoren.nl
URL:https://www.moira-domtoren.nl/event/midzomerrapid/
END:VEVENT
BEGIN:VEVENT
DTSTART;TZID=Europe/Amsterdam:20240531T190000
DTEND;TZID=Europe/Amsterdam:20240531T190000
DTSTAMP:20260421T193355
CREATED:20240403T092802Z
LAST-MODIFIED:20240525T130118Z
UID:71929-1717182000-1717182000@www.moira-domtoren.nl
SUMMARY:Externe jeugdcompetitie
DESCRIPTION:Locatie: Magnus Leidsche Rijn\, Maartvlinder 1\, Utrecht\nOud Zuylen Utrecht A1 – Moira-Domtoren A1\nMoira-Domtoren B1 – Gooise Schaakvereniging B1\nMoira-Domtoren C1 – Hoogland C1\nMagnus C2 – Moira-Domtoren C2\nVegtlust C1 – Moira-Domtoren C3\nHoogland D1 – Moira-Domtoren D1\nMoira-Domtoren D2 – Amersfoort D1\nMoira-Domtoren D3 – Vegtlust D1\nMoira-Domtoren D4 – Hoogland D5 (vooruitgespeeld)
URL:https://www.moira-domtoren.nl/event/externe-jeugdcompetitie/
END:VEVENT
BEGIN:VEVENT
DTSTART;TZID=Europe/Amsterdam:20240531T181500
DTEND;TZID=Europe/Amsterdam:20240531T193000
DTSTAMP:20260421T193355
CREATED:20240519T160614Z
LAST-MODIFIED:20240519T160614Z
UID:72326-1717179300-1717183800@www.moira-domtoren.nl
SUMMARY:Jeugdschaak
DESCRIPTION:
URL:https://www.moira-domtoren.nl/event/jeugdschaak-5/
END:VEVENT
BEGIN:VEVENT
DTSTART;TZID=Europe/Amsterdam:20240524T194500
DTEND;TZID=Europe/Amsterdam:20240524T233000
DTSTAMP:20260421T193355
CREATED:20240403T092801Z
LAST-MODIFIED:20240513T150120Z
UID:71928-1716579900-1716593400@www.moira-domtoren.nl
SUMMARY:Externe competitie SOS
DESCRIPTION:Drie wedstrijden in de gezamenlijke slotronde in De Bilt:\nDe Rode Loper 1 – Moira-Domtoren 1 (in De Bilt)\nDe Rode Loper 2 – Moira-Domtoren 3 (in De Bilt)\nMoira-Domtoren 2 – BSG 1 (in De Bilt)\nEn één wedstrijd in eigen clubhuis:\nMoira-Domtoren 4 – Amersfoort 3
URL:https://www.moira-domtoren.nl/event/externe-competitie-sos-2/
END:VEVENT
BEGIN:VEVENT
DTSTART;TZID=Europe/Amsterdam:20240524T194500
DTEND;TZID=Europe/Amsterdam:20240524T231500
DTSTAMP:20260421T193355
CREATED:20240505T135827Z
LAST-MODIFIED:20240505T135827Z
UID:72218-1716579900-1716592500@www.moira-domtoren.nl
SUMMARY:Interne competitie
DESCRIPTION:Meedoen? Meld je aan op het inschrijfformulier op de website. Dat kan tot uiterlijk vrijdag 19:30. Aanmelden in de speelzaal kan tot uiterlijk 19:45. Info: wedstr@moira-domtoren.nl
URL:https://www.moira-domtoren.nl/event/interne-competitie-5/
END:VEVENT
BEGIN:VEVENT
DTSTART;TZID=Europe/Amsterdam:20240524T181500
DTEND;TZID=Europe/Amsterdam:20240524T193000
DTSTAMP:20260421T193355
CREATED:20240403T094542Z
LAST-MODIFIED:20240428T160725Z
UID:71954-1716574500-1716579000@www.moira-domtoren.nl
SUMMARY:Jeugdschaak
DESCRIPTION:
URL:https://www.moira-domtoren.nl/event/jeugdschaak-4/
END:VEVENT
BEGIN:VEVENT
DTSTART;TZID=Europe/Amsterdam:20240517T194500
DTEND;TZID=Europe/Amsterdam:20240517T231500
DTSTAMP:20260421T193355
CREATED:20240505T135650Z
LAST-MODIFIED:20240505T135650Z
UID:72216-1715975100-1715987700@www.moira-domtoren.nl
SUMMARY:Interne competitie
DESCRIPTION:Meedoen? Meld je aan op het inschrijfformulier op de website. Dat kan tot uiterlijk vrijdag 19:30. Aanmelden in de speelzaal kan tot uiterlijk 19:45. Info: wedstr@moira-domtoren.nl
URL:https://www.moira-domtoren.nl/event/interne-competitie-4/
END:VEVENT
BEGIN:VEVENT
DTSTART;TZID=Europe/Amsterdam:20240517T181500
DTEND;TZID=Europe/Amsterdam:20240517T194500
DTSTAMP:20260421T193355
CREATED:20240403T092801Z
LAST-MODIFIED:20240505T135500Z
UID:71927-1715969700-1715975100@www.moira-domtoren.nl
SUMMARY:Jeugdschaak: proefexamens
DESCRIPTION:
URL:https://www.moira-domtoren.nl/event/jeugdschaak-3/
END:VEVENT
BEGIN:VEVENT
DTSTART;TZID=Europe/Amsterdam:20240510T194500
DTEND;TZID=Europe/Amsterdam:20240510T231500
DTSTAMP:20260421T193355
CREATED:20240428T155851Z
LAST-MODIFIED:20240505T135600Z
UID:72174-1715370300-1715382900@www.moira-domtoren.nl
SUMMARY:Interne competitie
DESCRIPTION:Meedoen? Meld je aan op het inschrijfformulier op de website. Dat kan tot uiterlijk vrijdag 19:30. Aanmelden in de speelzaal kan tot uiterlijk 19:45. Info: wedstr@moira-domtoren.nl
URL:https://www.moira-domtoren.nl/event/interne-competitie-3/
END:VEVENT
BEGIN:VEVENT
DTSTART;TZID=Europe/Amsterdam:20240510T181500
DTEND;TZID=Europe/Amsterdam:20240510T193000
DTSTAMP:20260421T193355
CREATED:20240428T160228Z
LAST-MODIFIED:20240428T160248Z
UID:72176-1715364900-1715369400@www.moira-domtoren.nl
SUMMARY:Jeugdschaak
DESCRIPTION:
URL:https://www.moira-domtoren.nl/event/jeugdschaak-2/
END:VEVENT
BEGIN:VEVENT
DTSTART;TZID=Europe/Amsterdam:20240503T194500
DTEND;TZID=Europe/Amsterdam:20240503T231500
DTSTAMP:20260421T193355
CREATED:20240419T144916Z
LAST-MODIFIED:20240419T144916Z
UID:72100-1714765500-1714778100@www.moira-domtoren.nl
SUMMARY:Interne competitie
DESCRIPTION:Meedoen? Meld je aan op het inschrijfformulier op de website. Dat kan tot uiterlijk vrijdag 19:30. Aanmelden in de speelzaal kan tot uiterlijk 19:45. Info: wedstr@moira-domtoren.nl
URL:https://www.moira-domtoren.nl/event/interne-competitie-2/
END:VEVENT
BEGIN:VEVENT
DTSTART;TZID=Europe/Amsterdam:20240503T181500
DTEND;TZID=Europe/Amsterdam:20240503T193000
DTSTAMP:20260421T193355
CREATED:20240406T152809Z
LAST-MODIFIED:20240428T160118Z
UID:71989-1714760100-1714764600@www.moira-domtoren.nl
SUMMARY:Jeugdschaak
DESCRIPTION:
URL:https://www.moira-domtoren.nl/event/jeugdschaak/
END:VEVENT
BEGIN:VEVENT
DTSTART;TZID=Europe/Amsterdam:20240426T180000
DTEND;TZID=Europe/Amsterdam:20240426T234500
DTSTAMP:20260421T193355
CREATED:20240419T145011Z
LAST-MODIFIED:20240419T145512Z
UID:72102-1714154400-1714175100@www.moira-domtoren.nl
SUMMARY:Geen schaken ivm Koningsdag
DESCRIPTION:
URL:https://www.moira-domtoren.nl/event/geen-schaken-ivm-koningsdag/
END:VEVENT
BEGIN:VEVENT
DTSTART;TZID=Europe/Amsterdam:20240420T130000
DTEND;TZID=Europe/Amsterdam:20240420T180000
DTSTAMP:20260421T193355
CREATED:20240403T094601Z
LAST-MODIFIED:20240403T094952Z
UID:71960-1713618000-1713636000@www.moira-domtoren.nl
SUMMARY:Externe competitie KNSB
DESCRIPTION:Moira-Domtoren 1 – Zuid-Oost United 1 Moira-Domtoren 2 – Paul Keres 4
URL:https://www.moira-domtoren.nl/event/externe-competitie-knsb-2/
END:VEVENT
BEGIN:VEVENT
DTSTART;TZID=Europe/Amsterdam:20240419T194500
DTEND;TZID=Europe/Amsterdam:20240419T231500
DTSTAMP:20260421T193355
CREATED:20240405T134849Z
LAST-MODIFIED:20240406T152415Z
UID:71978-1713555900-1713568500@www.moira-domtoren.nl
SUMMARY:Interne competitie
DESCRIPTION:Meedoen? Meld je aan op het inschrijfformulier op de website. Dat kan tot uiterlijk vrijdag 19:30. Aanmelden in de speelzaal kan tot uiterlijk 19:45. Info: wedstr@moira-domtoren.nl
URL:https://www.moira-domtoren.nl/event/interne-competitie/
END:VEVENT
BEGIN:VEVENT
DTSTART;TZID=Europe/Amsterdam:20240419T190000
DTEND;TZID=Europe/Amsterdam:20240419T203000
DTSTAMP:20260421T193355
CREATED:20240403T094547Z
LAST-MODIFIED:20240403T094937Z
UID:71959-1713553200-1713558600@www.moira-domtoren.nl
SUMMARY:Externe jeugdcompetitie
DESCRIPTION:Moira-Domtoren A1 – BSG A1 Moira-Domtoren C3 – Woerden C2\nGooise Schaakvereniging A1 – Moira-Domtoren A2\nDBC B1 – Moira-Domtoren B1
URL:https://www.moira-domtoren.nl/event/externe-jeugdcompetitie-11/
END:VEVENT
BEGIN:VEVENT
DTSTART;TZID=Europe/Amsterdam:20240418T190000
DTEND;TZID=Europe/Amsterdam:20240418T200000
DTSTAMP:20260421T193355
CREATED:20240403T094546Z
LAST-MODIFIED:20240403T094937Z
UID:71958-1713466800-1713470400@www.moira-domtoren.nl
SUMMARY:Externe jeugdcompetitie
DESCRIPTION:Gooise Schaakvereniging D1 – Moira-Domtoren D3 HSG D3 – Moira-Domtoren D4
URL:https://www.moira-domtoren.nl/event/externe-jeugdcompetitie-10/
END:VEVENT
BEGIN:VEVENT
DTSTART;TZID=Europe/Amsterdam:20240416T190000
DTEND;TZID=Europe/Amsterdam:20240416T200000
DTSTAMP:20260421T193355
CREATED:20240403T094546Z
LAST-MODIFIED:20240403T094936Z
UID:71957-1713294000-1713297600@www.moira-domtoren.nl
SUMMARY:Externe jeugdcompetitie
DESCRIPTION:Woerden D1 – Moira-Domtoren D2
URL:https://www.moira-domtoren.nl/event/externe-jeugdcompetitie-9/
END:VEVENT
BEGIN:VEVENT
DTSTART;TZID=Europe/Amsterdam:20240412T194500
DTEND;TZID=Europe/Amsterdam:20240412T223000
DTSTAMP:20260421T193355
CREATED:20240406T152642Z
LAST-MODIFIED:20240406T152642Z
UID:71987-1712951100-1712961000@www.moira-domtoren.nl
SUMMARY:Schaakpubquiz
DESCRIPTION:Meedoen? Meld je aan op het inschrijfformulier op de website. Dat kan tot vrijdag 19:30 of zolang er plaatsen beschikbaar zijn. Graag uiterlijk 19:45 aanwezig. Info: wedstr@moira-domtoren.nl
URL:https://www.moira-domtoren.nl/event/schaakpubquiz/
END:VEVENT
BEGIN:VEVENT
DTSTART;TZID=Europe/Amsterdam:20240412T190000
DTEND;TZID=Europe/Amsterdam:20240412T203000
DTSTAMP:20260421T193355
CREATED:20240403T094546Z
LAST-MODIFIED:20240403T094936Z
UID:71956-1712948400-1712953800@www.moira-domtoren.nl
SUMMARY:Externe jeugdcompetitie
DESCRIPTION:Moira-Domtoren C1 – Kasteel Lekstroom C1 Moira-Domtoren C2 – Magnus C1
URL:https://www.moira-domtoren.nl/event/externe-jeugdcompetitie-8/
END:VEVENT
END:VCALENDAR