BEGIN:VCALENDAR
VERSION:2.0
PRODID:-//Moira-Domtoren - ECPv6.15.11//NONSGML v1.0//EN
CALSCALE:GREGORIAN
METHOD:PUBLISH
X-WR-CALNAME:Moira-Domtoren
X-ORIGINAL-URL:https://www.moira-domtoren.nl
X-WR-CALDESC:Evenementen voor Moira-Domtoren
REFRESH-INTERVAL;VALUE=DURATION:PT1H
X-Robots-Tag:noindex
X-PUBLISHED-TTL:PT1H
BEGIN:VTIMEZONE
TZID:Europe/Amsterdam
BEGIN:DAYLIGHT
TZOFFSETFROM:+0100
TZOFFSETTO:+0200
TZNAME:CEST
DTSTART:20230326T010000
END:DAYLIGHT
BEGIN:STANDARD
TZOFFSETFROM:+0200
TZOFFSETTO:+0100
TZNAME:CET
DTSTART:20231029T010000
END:STANDARD
BEGIN:DAYLIGHT
TZOFFSETFROM:+0100
TZOFFSETTO:+0200
TZNAME:CEST
DTSTART:20240331T010000
END:DAYLIGHT
BEGIN:STANDARD
TZOFFSETFROM:+0200
TZOFFSETTO:+0100
TZNAME:CET
DTSTART:20241027T010000
END:STANDARD
BEGIN:DAYLIGHT
TZOFFSETFROM:+0100
TZOFFSETTO:+0200
TZNAME:CEST
DTSTART:20250330T010000
END:DAYLIGHT
BEGIN:STANDARD
TZOFFSETFROM:+0200
TZOFFSETTO:+0100
TZNAME:CET
DTSTART:20251026T010000
END:STANDARD
END:VTIMEZONE
BEGIN:VEVENT
DTSTART;TZID=Europe/Amsterdam:20241108T194500
DTEND;TZID=Europe/Amsterdam:20241108T231500
DTSTAMP:20260420T062144
CREATED:20241019T153813Z
LAST-MODIFIED:20241019T153813Z
UID:73051-1731095100-1731107700@www.moira-domtoren.nl
SUMMARY:Interne competitie
DESCRIPTION:Meedoen? Meld je aan op het inschrijfformulier op de website. Dat kan tot uiterlijk vrijdag 19:30. Aanmelden in de speelzaal kan tot uiterlijk 19:45. Info: wedstr@moira-domtoren.nl
URL:https://www.moira-domtoren.nl/event/interne-competitie-14/
END:VEVENT
BEGIN:VEVENT
DTSTART;TZID=Europe/Amsterdam:20241108T183000
DTEND;TZID=Europe/Amsterdam:20241108T194500
DTSTAMP:20260420T062144
CREATED:20241019T153223Z
LAST-MODIFIED:20241019T153223Z
UID:73036-1731090600-1731095100@www.moira-domtoren.nl
SUMMARY:Jeugdschaak
DESCRIPTION:
URL:https://www.moira-domtoren.nl/event/jeugdschaak-19/
END:VEVENT
BEGIN:VEVENT
DTSTART;TZID=Europe/Amsterdam:20241101T194500
DTEND;TZID=Europe/Amsterdam:20241101T231500
DTSTAMP:20260420T062144
CREATED:20241019T153553Z
LAST-MODIFIED:20241019T153553Z
UID:73046-1730490300-1730502900@www.moira-domtoren.nl
SUMMARY:Interne competitie
DESCRIPTION:Meedoen? Meld je aan op het inschrijfformulier op de website. Dat kan tot uiterlijk vrijdag 19:30. Aanmelden in de speelzaal kan tot uiterlijk 19:45. Info: wedstr@moira-domtoren.nl
URL:https://www.moira-domtoren.nl/event/interne-competitie-13/
END:VEVENT
BEGIN:VEVENT
DTSTART;TZID=Europe/Amsterdam:20241101T183000
DTEND;TZID=Europe/Amsterdam:20241101T194500
DTSTAMP:20260420T062144
CREATED:20241019T153151Z
LAST-MODIFIED:20241019T153151Z
UID:73034-1730485800-1730490300@www.moira-domtoren.nl
SUMMARY:Jeugdschaak
DESCRIPTION:
URL:https://www.moira-domtoren.nl/event/jeugdschaak-18/
END:VEVENT
BEGIN:VEVENT
DTSTART;TZID=Europe/Amsterdam:20241025T200000
DTEND;TZID=Europe/Amsterdam:20241025T233000
DTSTAMP:20260420T062144
CREATED:20241019T154044Z
LAST-MODIFIED:20241019T154044Z
UID:73059-1729886400-1729899000@www.moira-domtoren.nl
SUMMARY:KNSB-beker
DESCRIPTION:Moira-Domtoren – Magnus Leidsche Rijn
URL:https://www.moira-domtoren.nl/event/knsb-beker/
END:VEVENT
BEGIN:VEVENT
DTSTART;TZID=Europe/Amsterdam:20241025T194500
DTEND;TZID=Europe/Amsterdam:20241025T231500
DTSTAMP:20260420T062144
CREATED:20241019T153522Z
LAST-MODIFIED:20241019T153522Z
UID:73044-1729885500-1729898100@www.moira-domtoren.nl
SUMMARY:Interne competitie
DESCRIPTION:Meedoen? Meld je aan op het inschrijfformulier op de website. Dat kan tot uiterlijk vrijdag 19:30. Aanmelden in de speelzaal kan tot uiterlijk 19:45. Info: wedstr@moira-domtoren.nl
URL:https://www.moira-domtoren.nl/event/interne-competitie-12/
END:VEVENT
BEGIN:VEVENT
DTSTART;TZID=Europe/Amsterdam:20241025T183000
DTEND;TZID=Europe/Amsterdam:20241025T194500
DTSTAMP:20260420T062144
CREATED:20241019T153122Z
LAST-MODIFIED:20241019T153122Z
UID:73032-1729881000-1729885500@www.moira-domtoren.nl
SUMMARY:Jeugdschaak
DESCRIPTION:
URL:https://www.moira-domtoren.nl/event/jeugdschaak-17/
END:VEVENT
BEGIN:VEVENT
DTSTART;TZID=Europe/Amsterdam:20241018T200000
DTEND;TZID=Europe/Amsterdam:20241018T233000
DTSTAMP:20260420T062144
CREATED:20240907T152918Z
LAST-MODIFIED:20241001T191913Z
UID:72771-1729281600-1729294200@www.moira-domtoren.nl
SUMMARY:Externe competitie SOS
DESCRIPTION:Moira-Domtoren 2 – De Rode Loper 2\nMoira-Domtoren 3 – HSG 1\nMoira-Domtoren 4 – De Rode Loper 4
URL:https://www.moira-domtoren.nl/event/externe-competitie-sos-7/
END:VEVENT
BEGIN:VEVENT
DTSTART;TZID=Europe/Amsterdam:20241018T194500
DTEND;TZID=Europe/Amsterdam:20241018T233000
DTSTAMP:20260420T062144
CREATED:20241001T192529Z
LAST-MODIFIED:20241001T192529Z
UID:72951-1729280700-1729294200@www.moira-domtoren.nl
SUMMARY:Interne competitie
DESCRIPTION:
URL:https://www.moira-domtoren.nl/event/interne-competitie-11/
END:VEVENT
BEGIN:VEVENT
DTSTART;TZID=Europe/Amsterdam:20241018T183000
DTEND;TZID=Europe/Amsterdam:20241018T194500
DTSTAMP:20260420T062144
CREATED:20241001T192248Z
LAST-MODIFIED:20241001T192248Z
UID:72944-1729276200-1729280700@www.moira-domtoren.nl
SUMMARY:Jeugdschaak
DESCRIPTION:
URL:https://www.moira-domtoren.nl/event/jeugdschaak-15/
END:VEVENT
BEGIN:VEVENT
DTSTART;TZID=Europe/Amsterdam:20241012T130000
DTEND;TZID=Europe/Amsterdam:20241012T180000
DTSTAMP:20260420T062144
CREATED:20240907T135554Z
LAST-MODIFIED:20240907T150515Z
UID:72729-1728738000-1728756000@www.moira-domtoren.nl
SUMMARY:Externe competitie KNSB
DESCRIPTION:ZSG 1 – Moira-Domtoren 1\nZeist 1 – Moira-Domtoren 2\nEsPion 1 – Moira-Domtoren 3\nVianen/DVP 2 – Moira-Domtoren 4\nBSG 3 – Moira-Domtoren 5
URL:https://www.moira-domtoren.nl/event/externe-competitie-knsb-3/
END:VEVENT
BEGIN:VEVENT
DTSTART;TZID=Europe/Amsterdam:20241011T194500
DTEND;TZID=Europe/Amsterdam:20241011T233000
DTSTAMP:20260420T062144
CREATED:20241001T192439Z
LAST-MODIFIED:20241001T192439Z
UID:72949-1728675900-1728689400@www.moira-domtoren.nl
SUMMARY:Interne competitie
DESCRIPTION:Meedoen? Meld je aan op het inschrijfformulier op de website. Dat kan tot uiterlijk vrijdag 19:30. Aanmelden in de speelzaal kan tot uiterlijk 19:45. Info: wedstr@moira-domtoren.nl
URL:https://www.moira-domtoren.nl/event/interne-competitie-10/
END:VEVENT
BEGIN:VEVENT
DTSTART;TZID=Europe/Amsterdam:20241011T183000
DTEND;TZID=Europe/Amsterdam:20241011T194500
DTSTAMP:20260420T062144
CREATED:20241001T192213Z
LAST-MODIFIED:20241001T192213Z
UID:72942-1728671400-1728675900@www.moira-domtoren.nl
SUMMARY:Jeugdschaak
DESCRIPTION:
URL:https://www.moira-domtoren.nl/event/jeugdschaak-14/
END:VEVENT
BEGIN:VEVENT
DTSTART;TZID=Europe/Amsterdam:20241007T194500
DTEND;TZID=Europe/Amsterdam:20241007T233000
DTSTAMP:20260420T062144
CREATED:20240907T152832Z
LAST-MODIFIED:20240907T152832Z
UID:72769-1728330300-1728343800@www.moira-domtoren.nl
SUMMARY:Externe competitie SOS
DESCRIPTION:BSG 1 – Moira-Domtoren 1
URL:https://www.moira-domtoren.nl/event/externe-competitie-sos-5/
END:VEVENT
BEGIN:VEVENT
DTSTART;TZID=Europe/Amsterdam:20241004T183000
DTEND;TZID=Europe/Amsterdam:20241004T194500
DTSTAMP:20260420T062144
CREATED:20241001T192103Z
LAST-MODIFIED:20241001T192103Z
UID:72940-1728066600-1728071100@www.moira-domtoren.nl
SUMMARY:Jeugdschaak
DESCRIPTION:
URL:https://www.moira-domtoren.nl/event/jeugdschaak-13/
END:VEVENT
BEGIN:VEVENT
DTSTART;TZID=Europe/Amsterdam:20240927T181500
DTEND;TZID=Europe/Amsterdam:20240927T193000
DTSTAMP:20260420T062144
CREATED:20240907T134624Z
LAST-MODIFIED:20240907T134624Z
UID:72715-1727460900-1727465400@www.moira-domtoren.nl
SUMMARY:Jeugdschaak
DESCRIPTION:
URL:https://www.moira-domtoren.nl/event/jeugdschaak-12/
END:VEVENT
BEGIN:VEVENT
DTSTART;TZID=Europe/Amsterdam:20240921T130000
DTEND;TZID=Europe/Amsterdam:20240921T180000
DTSTAMP:20260420T062144
CREATED:20240907T135454Z
LAST-MODIFIED:20240907T150539Z
UID:72727-1726923600-1726941600@www.moira-domtoren.nl
SUMMARY:Externe competitie KNSB
DESCRIPTION:Moira-Domtoren 1 – DSG Pallas 1\nMoira-Domtoren 2 – BSG 2
URL:https://www.moira-domtoren.nl/event/externe-competitie-3/
END:VEVENT
BEGIN:VEVENT
DTSTART;TZID=Europe/Amsterdam:20240920T194500
DTEND;TZID=Europe/Amsterdam:20240920T233000
DTSTAMP:20260420T062144
CREATED:20240907T140422Z
LAST-MODIFIED:20240907T140422Z
UID:72742-1726861500-1726875000@www.moira-domtoren.nl
SUMMARY:Interne competitie
DESCRIPTION:Meedoen? Meld je aan op het inschrijfformulier op de website. Dat kan tot uiterlijk vrijdag 19:30. Aanmelden in de speelzaal kan tot uiterlijk 19:45. Info: wedstr@moira-domtoren.nl
URL:https://www.moira-domtoren.nl/event/interne-competitie-9/
END:VEVENT
BEGIN:VEVENT
DTSTART;TZID=Europe/Amsterdam:20240920T181500
DTEND;TZID=Europe/Amsterdam:20240920T193000
DTSTAMP:20260420T062144
CREATED:20240907T134545Z
LAST-MODIFIED:20240907T134545Z
UID:72713-1726856100-1726860600@www.moira-domtoren.nl
SUMMARY:Jeugdschaak
DESCRIPTION:
URL:https://www.moira-domtoren.nl/event/jeugdschaak-11/
END:VEVENT
BEGIN:VEVENT
DTSTART;TZID=Europe/Amsterdam:20240917T194500
DTEND;TZID=Europe/Amsterdam:20240917T233000
DTSTAMP:20260420T062144
CREATED:20240907T135344Z
LAST-MODIFIED:20240907T150559Z
UID:72725-1726602300-1726615800@www.moira-domtoren.nl
SUMMARY:Externe competitie SOS
DESCRIPTION:VSG 1 – Moira-Domtoren 2
URL:https://www.moira-domtoren.nl/event/externe-competitie-2/
END:VEVENT
BEGIN:VEVENT
DTSTART;TZID=Europe/Amsterdam:20240913T200000
DTEND;TZID=Europe/Amsterdam:20240913T233000
DTSTAMP:20260420T062144
CREATED:20240907T135037Z
LAST-MODIFIED:20240907T150619Z
UID:72723-1726257600-1726270200@www.moira-domtoren.nl
SUMMARY:Externe competitie SOS
DESCRIPTION:Moira-Domtoren 1 – Moira-Domtoren 3
URL:https://www.moira-domtoren.nl/event/externe-competitie/
END:VEVENT
BEGIN:VEVENT
DTSTART;TZID=Europe/Amsterdam:20240913T194500
DTEND;TZID=Europe/Amsterdam:20240913T233000
DTSTAMP:20260420T062144
CREATED:20240728T142810Z
LAST-MODIFIED:20240828T200614Z
UID:72608-1726256700-1726270200@www.moira-domtoren.nl
SUMMARY:Interne competitie
DESCRIPTION:Meedoen? Meld je aan op het inschrijfformulier op de website. Dat kan tot uiterlijk vrijdag 19:30. Aanmelden in de speelzaal kan tot uiterlijk 19:45. Info: wedstr@moira-domtoren.nl
URL:https://www.moira-domtoren.nl/event/interne-competitie-8/
END:VEVENT
BEGIN:VEVENT
DTSTART;TZID=Europe/Amsterdam:20240913T181500
DTEND;TZID=Europe/Amsterdam:20240913T193000
DTSTAMP:20260420T062144
CREATED:20240828T200925Z
LAST-MODIFIED:20240828T200925Z
UID:72654-1726251300-1726255800@www.moira-domtoren.nl
SUMMARY:Jeugdschaak
DESCRIPTION:
URL:https://www.moira-domtoren.nl/event/jeugdschaak-10/
END:VEVENT
BEGIN:VEVENT
DTSTART;TZID=Europe/Amsterdam:20240906T194500
DTEND;TZID=Europe/Amsterdam:20240906T221500
DTSTAMP:20260420T062144
CREATED:20240828T200733Z
LAST-MODIFIED:20240828T200733Z
UID:72652-1725651900-1725660900@www.moira-domtoren.nl
SUMMARY:Massakamp jeugd - volwassenen
DESCRIPTION:Tijd voor een nieuwe krachtmeting tussen volwassenen en jeugdspelers: de massakamp!! \nMassakamp jeugd tegen volwassenen op 6 september
URL:https://www.moira-domtoren.nl/event/massakamp-jeugd-volwassenen/
END:VEVENT
BEGIN:VEVENT
DTSTART;TZID=Europe/Amsterdam:20240906T181500
DTEND;TZID=Europe/Amsterdam:20240906T193000
DTSTAMP:20260420T062144
CREATED:20240728T142944Z
LAST-MODIFIED:20240728T142944Z
UID:72610-1725646500-1725651000@www.moira-domtoren.nl
SUMMARY:Jeugdschaak
DESCRIPTION:
URL:https://www.moira-domtoren.nl/event/jeugdschaak-9/
END:VEVENT
BEGIN:VEVENT
DTSTART;TZID=Europe/Amsterdam:20240830T194500
DTEND;TZID=Europe/Amsterdam:20240830T233000
DTSTAMP:20260420T062144
CREATED:20240623T171428Z
LAST-MODIFIED:20240623T171918Z
UID:72581-1725047100-1725060600@www.moira-domtoren.nl
SUMMARY:Interne competitie
DESCRIPTION:Meedoen? Meld je aan op het inschrijfformulier op de website. Dat kan tot uiterlijk vrijdag 19:30. Aanmelden in de speelzaal kan tot uiterlijk 19:45. Info: wedstr@moira-domtoren.nl
URL:https://www.moira-domtoren.nl/event/interne-competitie-7/
END:VEVENT
BEGIN:VEVENT
DTSTART;TZID=Europe/Amsterdam:20240830T181500
DTEND;TZID=Europe/Amsterdam:20240830T193000
DTSTAMP:20260420T062144
CREATED:20240519T160846Z
LAST-MODIFIED:20240728T142847Z
UID:72334-1725041700-1725046200@www.moira-domtoren.nl
SUMMARY:Jeugdschaak
DESCRIPTION:
URL:https://www.moira-domtoren.nl/event/jeugdschaak-8/
END:VEVENT
BEGIN:VEVENT
DTSTART;TZID=Europe/Amsterdam:20240807T150000
DTEND;TZID=Europe/Amsterdam:20240811T180000
DTSTAMP:20260420T062144
CREATED:20240805T172054Z
LAST-MODIFIED:20240805T183116Z
UID:72613-1723042800-1723399200@www.moira-domtoren.nl
SUMMARY:Tweekamp Hans Niemann vs. Anish Giri
DESCRIPTION:Van woensdag 7 tot en met zondag 11 augustus zal het Utrechtse stadhuis het decor zijn van een schaaktweekamp tussen de grootmeesters Hans Niemann en Anish Giri. De match bestaat uit de onderdelen blitz\, rapid en in totaal 6 lange partijen en is online te volgen of live in het Stadhuis in Utrecht.
URL:https://www.moira-domtoren.nl/event/tweekamp-hans-niemann-vs-anish-giri/
END:VEVENT
BEGIN:VEVENT
DTSTART;TZID=Europe/Amsterdam:20240621T194500
DTEND;TZID=Europe/Amsterdam:20240621T223000
DTSTAMP:20260420T062144
CREATED:20240519T155847Z
LAST-MODIFIED:20240519T160159Z
UID:72318-1718999100-1719009000@www.moira-domtoren.nl
SUMMARY:Midzomerrapid
DESCRIPTION:Derde en laatste speelavond van de Midzomerrapid\, met ronde 6 t/m 9. Prijsuitreiking direct na de laatste ronde. De EK-wedstrijd Nederland-Frankrijk is te volgen op groot scherm in de grote zaal. \nMeedoen? Meld je aan op het inschrijfformulier op de website. Dat kan tot uiterlijk vrijdag 19:30. Aanmelden in de speelzaal kan tot uiterlijk 19:45. Info: wedstr@moira-domtoren.nl
URL:https://www.moira-domtoren.nl/event/midzomerrapid-3/
END:VEVENT
BEGIN:VEVENT
DTSTART;TZID=Europe/Amsterdam:20240621T181500
DTEND;TZID=Europe/Amsterdam:20240621T193000
DTSTAMP:20260420T062144
CREATED:20240519T160815Z
LAST-MODIFIED:20240519T160815Z
UID:72332-1718993700-1718998200@www.moira-domtoren.nl
SUMMARY:Jeugdschaak
DESCRIPTION:
URL:https://www.moira-domtoren.nl/event/jeugdschaak-7/
END:VEVENT
END:VCALENDAR