BEGIN:VCALENDAR
VERSION:2.0
PRODID:-//Moira-Domtoren - ECPv6.15.11//NONSGML v1.0//EN
CALSCALE:GREGORIAN
METHOD:PUBLISH
X-WR-CALNAME:Moira-Domtoren
X-ORIGINAL-URL:https://www.moira-domtoren.nl
X-WR-CALDESC:Evenementen voor Moira-Domtoren
REFRESH-INTERVAL;VALUE=DURATION:PT1H
X-Robots-Tag:noindex
X-PUBLISHED-TTL:PT1H
BEGIN:VTIMEZONE
TZID:Europe/Amsterdam
BEGIN:DAYLIGHT
TZOFFSETFROM:+0100
TZOFFSETTO:+0200
TZNAME:CEST
DTSTART:20230326T010000
END:DAYLIGHT
BEGIN:STANDARD
TZOFFSETFROM:+0200
TZOFFSETTO:+0100
TZNAME:CET
DTSTART:20231029T010000
END:STANDARD
BEGIN:DAYLIGHT
TZOFFSETFROM:+0100
TZOFFSETTO:+0200
TZNAME:CEST
DTSTART:20240331T010000
END:DAYLIGHT
BEGIN:STANDARD
TZOFFSETFROM:+0200
TZOFFSETTO:+0100
TZNAME:CET
DTSTART:20241027T010000
END:STANDARD
BEGIN:DAYLIGHT
TZOFFSETFROM:+0100
TZOFFSETTO:+0200
TZNAME:CEST
DTSTART:20250330T010000
END:DAYLIGHT
BEGIN:STANDARD
TZOFFSETFROM:+0200
TZOFFSETTO:+0100
TZNAME:CET
DTSTART:20251026T010000
END:STANDARD
BEGIN:DAYLIGHT
TZOFFSETFROM:+0100
TZOFFSETTO:+0200
TZNAME:CEST
DTSTART:20260329T010000
END:DAYLIGHT
BEGIN:STANDARD
TZOFFSETFROM:+0200
TZOFFSETTO:+0100
TZNAME:CET
DTSTART:20261025T010000
END:STANDARD
END:VTIMEZONE
BEGIN:VEVENT
DTSTART;TZID=Europe/Amsterdam:20250110T183000
DTEND;TZID=Europe/Amsterdam:20250110T194500
DTSTAMP:20260419T183218
CREATED:20241208T164908Z
LAST-MODIFIED:20241208T164908Z
UID:73281-1736533800-1736538300@www.moira-domtoren.nl
SUMMARY:Jeugdschaak
DESCRIPTION:
URL:https://www.moira-domtoren.nl/event/jeugdschaak-23/
END:VEVENT
BEGIN:VEVENT
DTSTART;TZID=Europe/Amsterdam:20250106T193000
DTEND;TZID=Europe/Amsterdam:20250106T223000
DTSTAMP:20260419T183218
CREATED:20241104T174252Z
LAST-MODIFIED:20241104T174252Z
UID:73153-1736191800-1736202600@www.moira-domtoren.nl
SUMMARY:Externe competitie SOS
DESCRIPTION:viertalcompetitie: Bommelerwaard 1 – Moira-Domtoren 1
URL:https://www.moira-domtoren.nl/event/externe-competitie-sos-27/
END:VEVENT
BEGIN:VEVENT
DTSTART;TZID=Europe/Amsterdam:20250103T194500
DTEND;TZID=Europe/Amsterdam:20250103T223000
DTSTAMP:20260419T183218
CREATED:20241227T132938Z
LAST-MODIFIED:20241227T132938Z
UID:73306-1735933500-1735943400@www.moira-domtoren.nl
SUMMARY:Fischer Random Rapid
DESCRIPTION:Begin 2025 goed en doe mee in de open groep of in een van de vierkampen!!!
URL:https://www.moira-domtoren.nl/event/fischer-random-rapid/
END:VEVENT
BEGIN:VEVENT
DTSTART;TZID=Europe/Amsterdam:20250103T183000
DTEND;TZID=Europe/Amsterdam:20250103T194500
DTSTAMP:20260419T183218
CREATED:20241001T192323Z
LAST-MODIFIED:20241208T164836Z
UID:72946-1735929000-1735933500@www.moira-domtoren.nl
SUMMARY:Jeugdschaak
DESCRIPTION:
URL:https://www.moira-domtoren.nl/event/jeugdschaak-16/
END:VEVENT
BEGIN:VEVENT
DTSTART;TZID=Europe/Amsterdam:20241220T200000
DTEND;TZID=Europe/Amsterdam:20241220T230000
DTSTAMP:20260419T183218
CREATED:20241104T174157Z
LAST-MODIFIED:20241104T174157Z
UID:73151-1734724800-1734735600@www.moira-domtoren.nl
SUMMARY:Externe competitie SOS
DESCRIPTION:viertalcompetitie: Moira-Domtoren 1 – Damrakkers 1
URL:https://www.moira-domtoren.nl/event/externe-competitie-sos/
END:VEVENT
BEGIN:VEVENT
DTSTART;TZID=Europe/Amsterdam:20241220T194500
DTEND;TZID=Europe/Amsterdam:20241220T233000
DTSTAMP:20260419T183218
CREATED:20241119T205159Z
LAST-MODIFIED:20241119T205159Z
UID:73221-1734723900-1734737400@www.moira-domtoren.nl
SUMMARY:Interne competitie
DESCRIPTION:Meedoen? Meld je aan op het inschrijfformulier op de website. Dat kan tot uiterlijk vrijdag 19:30. Aanmelden in de speelzaal kan tot uiterlijk 19:45. Info: wedstr@moira-domtoren.nl
URL:https://www.moira-domtoren.nl/event/interne-competitie-20/
END:VEVENT
BEGIN:VEVENT
DTSTART;TZID=Europe/Amsterdam:20241220T183000
DTEND;TZID=Europe/Amsterdam:20241220T194500
DTSTAMP:20260419T183218
CREATED:20241019T153253Z
LAST-MODIFIED:20241208T164356Z
UID:73038-1734719400-1734723900@www.moira-domtoren.nl
SUMMARY:Jeugdschaak
DESCRIPTION:
URL:https://www.moira-domtoren.nl/event/jeugdschaak-20/
END:VEVENT
BEGIN:VEVENT
DTSTART;TZID=Europe/Amsterdam:20241214T130000
DTEND;TZID=Europe/Amsterdam:20241214T180000
DTSTAMP:20260419T183218
CREATED:20240907T135835Z
LAST-MODIFIED:20240907T150421Z
UID:72735-1734181200-1734199200@www.moira-domtoren.nl
SUMMARY:Externe competitie KNSB
DESCRIPTION:ASC 1 – Moira-Domtoren 1\nOud Zuylen Utrecht 3 – Moira-Domtoren 4\nAlmere 4 – Moira-Domtoren 5
URL:https://www.moira-domtoren.nl/event/externe-competitie-knsb-4/
END:VEVENT
BEGIN:VEVENT
DTSTART;TZID=Europe/Amsterdam:20241213T194500
DTEND;TZID=Europe/Amsterdam:20241213T233000
DTSTAMP:20260419T183218
CREATED:20241119T205124Z
LAST-MODIFIED:20241119T205124Z
UID:73219-1734119100-1734132600@www.moira-domtoren.nl
SUMMARY:Interne competitie
DESCRIPTION:Meedoen? Meld je aan op het inschrijfformulier op de website. Dat kan tot uiterlijk vrijdag 19:30. Aanmelden in de speelzaal kan tot uiterlijk 19:45. Info: wedstr@moira-domtoren.nl
URL:https://www.moira-domtoren.nl/event/interne-competitie-19/
END:VEVENT
BEGIN:VEVENT
DTSTART;TZID=Europe/Amsterdam:20241213T190000
DTEND;TZID=Europe/Amsterdam:20241213T210000
DTSTAMP:20260419T183218
CREATED:20241104T170344Z
LAST-MODIFIED:20241104T172707Z
UID:73099-1734116400-1734123600@www.moira-domtoren.nl
SUMMARY:Externe jeugdcompetitie
DESCRIPTION:Moira-Domtoren B2 – Oud Zuylen Utrecht B1\nMoira-Domtoren C1 – Baarnse S.V. C1\nMagnus A1 – Moira-Domtoren A1\nMagnus B2 – Moira-Domtoren B1
URL:https://www.moira-domtoren.nl/event/externe-competitie-6/
END:VEVENT
BEGIN:VEVENT
DTSTART;TZID=Europe/Amsterdam:20241213T183000
DTEND;TZID=Europe/Amsterdam:20241213T194500
DTSTAMP:20260419T183218
CREATED:20241019T153319Z
LAST-MODIFIED:20241208T164318Z
UID:73040-1734114600-1734119100@www.moira-domtoren.nl
SUMMARY:Jeugdschaak
DESCRIPTION:
URL:https://www.moira-domtoren.nl/event/jeugdschaak-21/
END:VEVENT
BEGIN:VEVENT
DTSTART;TZID=Europe/Amsterdam:20241212T190000
DTEND;TZID=Europe/Amsterdam:20241212T200000
DTSTAMP:20260419T183218
CREATED:20241104T170255Z
LAST-MODIFIED:20241104T170255Z
UID:73097-1734030000-1734033600@www.moira-domtoren.nl
SUMMARY:Externe jeugdcompetitie
DESCRIPTION:Kasteel Lekstroom D2 – Moira-Domtoren D4
URL:https://www.moira-domtoren.nl/event/externe-jeugdcompetitie-17/
END:VEVENT
BEGIN:VEVENT
DTSTART;TZID=Europe/Amsterdam:20241206T200000
DTEND;TZID=Europe/Amsterdam:20241206T233000
DTSTAMP:20260419T183218
CREATED:20240907T153340Z
LAST-MODIFIED:20240907T153340Z
UID:72781-1733515200-1733527800@www.moira-domtoren.nl
SUMMARY:Externe competitie SOS
DESCRIPTION:Moira-Domtoren 2 – ZSG 1\nMoira-Domtoren 4 – Denk en Zet 1
URL:https://www.moira-domtoren.nl/event/externe-competitie-sos-12/
END:VEVENT
BEGIN:VEVENT
DTSTART;TZID=Europe/Amsterdam:20241206T194500
DTEND;TZID=Europe/Amsterdam:20241206T233000
DTSTAMP:20260419T183218
CREATED:20241119T205032Z
LAST-MODIFIED:20241119T205032Z
UID:73217-1733514300-1733527800@www.moira-domtoren.nl
SUMMARY:Interne competitie
DESCRIPTION:Meedoen? Meld je aan op het inschrijfformulier op de website. Dat kan tot uiterlijk vrijdag 19:30. Aanmelden in de speelzaal kan tot uiterlijk 19:45. Info: wedstr@moira-domtoren.nl
URL:https://www.moira-domtoren.nl/event/interne-competitie-18/
END:VEVENT
BEGIN:VEVENT
DTSTART;TZID=Europe/Amsterdam:20241206T190000
DTEND;TZID=Europe/Amsterdam:20241206T203000
DTSTAMP:20260419T183218
CREATED:20241104T170219Z
LAST-MODIFIED:20241104T170219Z
UID:73095-1733511600-1733517000@www.moira-domtoren.nl
SUMMARY:Externe jeugdcompetitie
DESCRIPTION:Moira-Domtoren C2 – DBC C1\nMoira-Domtoren D1 – DBC D1
URL:https://www.moira-domtoren.nl/event/externe-jeugdcompetitie-16/
END:VEVENT
BEGIN:VEVENT
DTSTART;TZID=Europe/Amsterdam:20241206T183000
DTEND;TZID=Europe/Amsterdam:20241206T194500
DTSTAMP:20260419T183218
CREATED:20241019T153347Z
LAST-MODIFIED:20241208T164244Z
UID:73042-1733509800-1733514300@www.moira-domtoren.nl
SUMMARY:Jeugdschaak
DESCRIPTION:
URL:https://www.moira-domtoren.nl/event/jeugdschaak-22/
END:VEVENT
BEGIN:VEVENT
DTSTART;TZID=Europe/Amsterdam:20241203T194500
DTEND;TZID=Europe/Amsterdam:20241203T233000
DTSTAMP:20260419T183218
CREATED:20240907T153228Z
LAST-MODIFIED:20240907T153228Z
UID:72779-1733255100-1733268600@www.moira-domtoren.nl
SUMMARY:Externe competitie SOS
DESCRIPTION:OZU 1 – Moira-Domtoren 1\nWoerden 1 – Moira-Domtoren 3
URL:https://www.moira-domtoren.nl/event/externe-competitie-sos-11/
END:VEVENT
BEGIN:VEVENT
DTSTART;TZID=Europe/Amsterdam:20241129T194500
DTEND;TZID=Europe/Amsterdam:20241129T231500
DTSTAMP:20260419T183218
CREATED:20241019T153934Z
LAST-MODIFIED:20241019T153934Z
UID:73057-1732909500-1732922100@www.moira-domtoren.nl
SUMMARY:Interne competitie
DESCRIPTION:Meedoen? Meld je aan op het inschrijfformulier op de website. Dat kan tot uiterlijk vrijdag 19:30. Aanmelden in de speelzaal kan tot uiterlijk 19:45. Info: wedstr@moira-domtoren.nl
URL:https://www.moira-domtoren.nl/event/interne-competitie-17/
END:VEVENT
BEGIN:VEVENT
DTSTART;TZID=Europe/Amsterdam:20241129T194500
DTEND;TZID=Europe/Amsterdam:20241129T224500
DTSTAMP:20260419T183218
CREATED:20241119T204848Z
LAST-MODIFIED:20241119T204848Z
UID:73215-1732909500-1732920300@www.moira-domtoren.nl
SUMMARY:Snelschaakkampioenschap
DESCRIPTION:Vrijdag 29 november organiseert Moira-Domtoren het jaarlijkse clubkampioenschap snelschaken. Iedereen is welkom\, leden en niet-leden\, jeugdspelers en ouders! Aanmelden kan via het formulier op de website. Vriendelijk verzoek om uiterlijk 19:45 aanwezig te zijn.
URL:https://www.moira-domtoren.nl/event/snelschaakkampioenschap/
END:VEVENT
BEGIN:VEVENT
DTSTART;TZID=Europe/Amsterdam:20241129T190000
DTEND;TZID=Europe/Amsterdam:20241129T200000
DTSTAMP:20260419T183218
CREATED:20241104T170143Z
LAST-MODIFIED:20241104T170143Z
UID:73093-1732906800-1732910400@www.moira-domtoren.nl
SUMMARY:Externe jeugdcompetitie
DESCRIPTION:Moira-Domtoren D3 – Moira-Domtoren D2
URL:https://www.moira-domtoren.nl/event/externe-jeugdcompetitie-15/
END:VEVENT
BEGIN:VEVENT
DTSTART;TZID=Europe/Amsterdam:20241123T130000
DTEND;TZID=Europe/Amsterdam:20241123T180000
DTSTAMP:20260419T183218
CREATED:20240907T135724Z
LAST-MODIFIED:20240907T150440Z
UID:72733-1732366800-1732384800@www.moira-domtoren.nl
SUMMARY:Externe competitie KNSB
DESCRIPTION:Almere 1 – Moira-Domtoren 1\nAlmere 2 – Moira-Domtoren 2\nAlmere 3 – Moira-Domtoren 3\nEindhoven 3 – Moira-Domtoren 4\nAlmere 6 – Moira-Domtoren 5
URL:https://www.moira-domtoren.nl/event/externe-competitie-5/
END:VEVENT
BEGIN:VEVENT
DTSTART;TZID=Europe/Amsterdam:20241122T194500
DTEND;TZID=Europe/Amsterdam:20241122T231500
DTSTAMP:20260419T183218
CREATED:20241019T153910Z
LAST-MODIFIED:20241019T153910Z
UID:73055-1732304700-1732317300@www.moira-domtoren.nl
SUMMARY:Interne competitie
DESCRIPTION:Meedoen? Meld je aan op het inschrijfformulier op de website. Dat kan tot uiterlijk vrijdag 19:30. Aanmelden in de speelzaal kan tot uiterlijk 19:45. Info: wedstr@moira-domtoren.nl
URL:https://www.moira-domtoren.nl/event/interne-competitie-16/
END:VEVENT
BEGIN:VEVENT
DTSTART;TZID=Europe/Amsterdam:20241122T190000
DTEND;TZID=Europe/Amsterdam:20241122T210000
DTSTAMP:20260419T183218
CREATED:20241104T170005Z
LAST-MODIFIED:20241104T170005Z
UID:73091-1732302000-1732309200@www.moira-domtoren.nl
SUMMARY:Externe jeugdcompetitie
DESCRIPTION:Moira-Domtoren A1 – Moira-Domtoren A2\nMoira-Domtoren D4 – Houten D1
URL:https://www.moira-domtoren.nl/event/externe-jeugdcompetitie-14/
END:VEVENT
BEGIN:VEVENT
DTSTART;TZID=Europe/Amsterdam:20241115T200000
DTEND;TZID=Europe/Amsterdam:20241115T233000
DTSTAMP:20260419T183218
CREATED:20240907T153139Z
LAST-MODIFIED:20241103T165248Z
UID:72777-1731700800-1731713400@www.moira-domtoren.nl
SUMMARY:Externe competitie SOS
DESCRIPTION:Moira-Domtoren 1 – Woerden 1\nMoira-Domtoren 3 – BSG 1\nEn Passant 4 – Moira-Domtoren 4
URL:https://www.moira-domtoren.nl/event/externe-competitie-sos-10/
END:VEVENT
BEGIN:VEVENT
DTSTART;TZID=Europe/Amsterdam:20241115T194500
DTEND;TZID=Europe/Amsterdam:20241115T231500
DTSTAMP:20260419T183218
CREATED:20241019T153842Z
LAST-MODIFIED:20241019T153842Z
UID:73053-1731699900-1731712500@www.moira-domtoren.nl
SUMMARY:Interne competitie
DESCRIPTION:Meedoen? Meld je aan op het inschrijfformulier op de website. Dat kan tot uiterlijk vrijdag 19:30. Aanmelden in de speelzaal kan tot uiterlijk 19:45. Info: wedstr@moira-domtoren.nl
URL:https://www.moira-domtoren.nl/event/interne-competitie-15/
END:VEVENT
BEGIN:VEVENT
DTSTART;TZID=Europe/Amsterdam:20241115T190000
DTEND;TZID=Europe/Amsterdam:20241115T210000
DTSTAMP:20260419T183218
CREATED:20240907T153009Z
LAST-MODIFIED:20241104T165747Z
UID:72773-1731697200-1731704400@www.moira-domtoren.nl
SUMMARY:Externe jeugdcompetitie
DESCRIPTION:Moira-Domtoren B1 – Moira-Domtoren B2\nMoira-Domtoren D2 – Kasteel Lekstroom D1
URL:https://www.moira-domtoren.nl/event/externe-competitie-sos-8/
END:VEVENT
BEGIN:VEVENT
DTSTART;TZID=Europe/Amsterdam:20241114T190000
DTEND;TZID=Europe/Amsterdam:20241114T203000
DTSTAMP:20260419T183218
CREATED:20241104T165924Z
LAST-MODIFIED:20241104T165924Z
UID:73089-1731610800-1731616200@www.moira-domtoren.nl
SUMMARY:Externe jeugdcompetitie
DESCRIPTION:HSG C1 – Moira-Domtoren C1
URL:https://www.moira-domtoren.nl/event/externe-jeugdcompetitie-13/
END:VEVENT
BEGIN:VEVENT
DTSTART;TZID=Europe/Amsterdam:20241112T190000
DTEND;TZID=Europe/Amsterdam:20241112T203000
DTSTAMP:20260419T183218
CREATED:20241104T165848Z
LAST-MODIFIED:20241104T165848Z
UID:73087-1731438000-1731443400@www.moira-domtoren.nl
SUMMARY:Externe jeugdcompetitie
DESCRIPTION:Woerden D1 – Moira-Domtoren D1\nOud Zuylen Utrecht D1 – Moira-Domtoren D3
URL:https://www.moira-domtoren.nl/event/externe-jeugdcompetitie-12/
END:VEVENT
BEGIN:VEVENT
DTSTART;TZID=Europe/Amsterdam:20241111T194500
DTEND;TZID=Europe/Amsterdam:20241111T233000
DTSTAMP:20260419T183218
CREATED:20240907T153055Z
LAST-MODIFIED:20240907T153055Z
UID:72775-1731354300-1731367800@www.moira-domtoren.nl
SUMMARY:Externe competitie SOS
DESCRIPTION:BSG 2 – Moira-Domtoren 2
URL:https://www.moira-domtoren.nl/event/externe-competitie-sos-9/
END:VEVENT
BEGIN:VEVENT
DTSTART;TZID=Europe/Amsterdam:20241109T130000
DTEND;TZID=Europe/Amsterdam:20241109T180000
DTSTAMP:20260419T183218
CREATED:20240907T135641Z
LAST-MODIFIED:20240907T150457Z
UID:72731-1731157200-1731175200@www.moira-domtoren.nl
SUMMARY:Externe competitie KNSB
DESCRIPTION:Moira-Domtoren 1 – Amersfoort 1\nMoira-Domtoren 2 – Amersfoort 2\nMoira-Domtoren 3 – Zuidoost United 1\nMoira-Domtoren 4 – Het Kasteel Wijchen 2\nMoira-Domtoren 5 – Amersfoort 5
URL:https://www.moira-domtoren.nl/event/externe-competitie-4/
END:VEVENT
END:VCALENDAR