BEGIN:VCALENDAR
VERSION:2.0
PRODID:-//Moira-Domtoren - ECPv6.15.11//NONSGML v1.0//EN
CALSCALE:GREGORIAN
METHOD:PUBLISH
X-WR-CALNAME:Moira-Domtoren
X-ORIGINAL-URL:https://www.moira-domtoren.nl
X-WR-CALDESC:Evenementen voor Moira-Domtoren
REFRESH-INTERVAL;VALUE=DURATION:PT1H
X-Robots-Tag:noindex
X-PUBLISHED-TTL:PT1H
BEGIN:VTIMEZONE
TZID:Europe/Amsterdam
BEGIN:DAYLIGHT
TZOFFSETFROM:+0100
TZOFFSETTO:+0200
TZNAME:CEST
DTSTART:20240331T010000
END:DAYLIGHT
BEGIN:STANDARD
TZOFFSETFROM:+0200
TZOFFSETTO:+0100
TZNAME:CET
DTSTART:20241027T010000
END:STANDARD
BEGIN:DAYLIGHT
TZOFFSETFROM:+0100
TZOFFSETTO:+0200
TZNAME:CEST
DTSTART:20250330T010000
END:DAYLIGHT
BEGIN:STANDARD
TZOFFSETFROM:+0200
TZOFFSETTO:+0100
TZNAME:CET
DTSTART:20251026T010000
END:STANDARD
BEGIN:DAYLIGHT
TZOFFSETFROM:+0100
TZOFFSETTO:+0200
TZNAME:CEST
DTSTART:20260329T010000
END:DAYLIGHT
BEGIN:STANDARD
TZOFFSETFROM:+0200
TZOFFSETTO:+0100
TZNAME:CET
DTSTART:20261025T010000
END:STANDARD
END:VTIMEZONE
BEGIN:VEVENT
DTSTART;TZID=Europe/Amsterdam:20251107T194500
DTEND;TZID=Europe/Amsterdam:20251107T231500
DTSTAMP:20260421T032704
CREATED:20251005T121917Z
LAST-MODIFIED:20251005T121917Z
UID:74375-1762544700-1762557300@www.moira-domtoren.nl
SUMMARY:Externe competitie SOS
DESCRIPTION:SG Amersfoort 2 – Moira-Domtoren 4
URL:https://www.moira-domtoren.nl/event/externe-competitie-sos-34/
END:VEVENT
BEGIN:VEVENT
DTSTART;TZID=Europe/Amsterdam:20251107T200000
DTEND;TZID=Europe/Amsterdam:20251107T233000
DTSTAMP:20260421T032704
CREATED:20251005T121827Z
LAST-MODIFIED:20251005T121827Z
UID:74373-1762545600-1762558200@www.moira-domtoren.nl
SUMMARY:Externe competitie SOS
DESCRIPTION:Moira-Domtoren 1 – SG Amersfoort 1\nMoira-Domtoren 3 – SV Kasteel Lekstroom 1
URL:https://www.moira-domtoren.nl/event/externe-competitie-sos-33/
END:VEVENT
END:VCALENDAR