BEGIN:VCALENDAR
VERSION:2.0
PRODID:-//Moira-Domtoren - ECPv6.15.11//NONSGML v1.0//EN
CALSCALE:GREGORIAN
METHOD:PUBLISH
X-ORIGINAL-URL:https://www.moira-domtoren.nl
X-WR-CALDESC:Evenementen voor Moira-Domtoren
REFRESH-INTERVAL;VALUE=DURATION:PT1H
X-Robots-Tag:noindex
X-PUBLISHED-TTL:PT1H
BEGIN:VTIMEZONE
TZID:Europe/Amsterdam
BEGIN:DAYLIGHT
TZOFFSETFROM:+0100
TZOFFSETTO:+0200
TZNAME:CEST
DTSTART:20240331T010000
END:DAYLIGHT
BEGIN:STANDARD
TZOFFSETFROM:+0200
TZOFFSETTO:+0100
TZNAME:CET
DTSTART:20241027T010000
END:STANDARD
BEGIN:DAYLIGHT
TZOFFSETFROM:+0100
TZOFFSETTO:+0200
TZNAME:CEST
DTSTART:20250330T010000
END:DAYLIGHT
BEGIN:STANDARD
TZOFFSETFROM:+0200
TZOFFSETTO:+0100
TZNAME:CET
DTSTART:20251026T010000
END:STANDARD
BEGIN:DAYLIGHT
TZOFFSETFROM:+0100
TZOFFSETTO:+0200
TZNAME:CEST
DTSTART:20260329T010000
END:DAYLIGHT
BEGIN:STANDARD
TZOFFSETFROM:+0200
TZOFFSETTO:+0100
TZNAME:CET
DTSTART:20261025T010000
END:STANDARD
END:VTIMEZONE
BEGIN:VEVENT
DTSTART;TZID=Europe/Amsterdam:20251031T194500
DTEND;TZID=Europe/Amsterdam:20251031T231500
DTSTAMP:20260421T170644
CREATED:20251028T202644Z
LAST-MODIFIED:20251028T202847Z
UID:74459-1761939900-1761952500@www.moira-domtoren.nl
SUMMARY:Interne competitie
DESCRIPTION:Meedoen? Meld je aan op het inschrijfformulier op de website. Dat kan tot uiterlijk vrijdag 19:30. Aanmelden in de speelzaal kan tot uiterlijk 19:45. Info: wedstr@moira-domtoren.nl
URL:https://www.moira-domtoren.nl/event/interne-competitie-45/
END:VEVENT
BEGIN:VEVENT
DTSTART;TZID=Europe/Amsterdam:20251031T200000
DTEND;TZID=Europe/Amsterdam:20251031T233000
DTSTAMP:20260421T170644
CREATED:20251028T205150Z
LAST-MODIFIED:20251028T205150Z
UID:74476-1761940800-1761953400@www.moira-domtoren.nl
SUMMARY:KNSB-bekerstrijd
DESCRIPTION:Moira-Domtoren – De Rode Loper
URL:https://www.moira-domtoren.nl/event/knsb-bekerstrijd/
END:VEVENT
BEGIN:VEVENT
DTSTART;TZID=Europe/Amsterdam:20251031T201500
DTEND;TZID=Europe/Amsterdam:20251031T220000
DTSTAMP:20260421T170644
CREATED:20240907T140611Z
LAST-MODIFIED:20251028T202520Z
UID:72745-1761941700-1761948000@www.moira-domtoren.nl
SUMMARY:Schaaktraining < 1700
DESCRIPTION:Zie de info.
URL:https://www.moira-domtoren.nl/event/schaaktraining-1600/
END:VEVENT
END:VCALENDAR