BEGIN:VCALENDAR
VERSION:2.0
PRODID:-//Moira-Domtoren - ECPv6.15.11//NONSGML v1.0//EN
CALSCALE:GREGORIAN
METHOD:PUBLISH
X-ORIGINAL-URL:https://www.moira-domtoren.nl
X-WR-CALDESC:Evenementen voor Moira-Domtoren
REFRESH-INTERVAL;VALUE=DURATION:PT1H
X-Robots-Tag:noindex
X-PUBLISHED-TTL:PT1H
BEGIN:VTIMEZONE
TZID:Europe/Amsterdam
BEGIN:DAYLIGHT
TZOFFSETFROM:+0100
TZOFFSETTO:+0200
TZNAME:CEST
DTSTART:20240331T010000
END:DAYLIGHT
BEGIN:STANDARD
TZOFFSETFROM:+0200
TZOFFSETTO:+0100
TZNAME:CET
DTSTART:20241027T010000
END:STANDARD
BEGIN:DAYLIGHT
TZOFFSETFROM:+0100
TZOFFSETTO:+0200
TZNAME:CEST
DTSTART:20250330T010000
END:DAYLIGHT
BEGIN:STANDARD
TZOFFSETFROM:+0200
TZOFFSETTO:+0100
TZNAME:CET
DTSTART:20251026T010000
END:STANDARD
BEGIN:DAYLIGHT
TZOFFSETFROM:+0100
TZOFFSETTO:+0200
TZNAME:CEST
DTSTART:20260329T010000
END:DAYLIGHT
BEGIN:STANDARD
TZOFFSETFROM:+0200
TZOFFSETTO:+0100
TZNAME:CET
DTSTART:20261025T010000
END:STANDARD
END:VTIMEZONE
BEGIN:VEVENT
DTSTART;TZID=Europe/Amsterdam:20250509T180000
DTEND;TZID=Europe/Amsterdam:20250509T194500
DTSTAMP:20260424T171342
CREATED:20250426T153337Z
LAST-MODIFIED:20250426T153337Z
UID:73695-1746813600-1746819900@www.moira-domtoren.nl
SUMMARY:Jeugdschaak
DESCRIPTION:
URL:https://www.moira-domtoren.nl/event/jeugdschaak-40/
END:VEVENT
BEGIN:VEVENT
DTSTART;TZID=Europe/Amsterdam:20250509T190000
DTEND;TZID=Europe/Amsterdam:20250509T203000
DTSTAMP:20260424T171342
CREATED:20241104T172100Z
LAST-MODIFIED:20241104T172100Z
UID:73143-1746817200-1746822600@www.moira-domtoren.nl
SUMMARY:Externe jeugdcompetitie
DESCRIPTION:Moira-Domtoren C2 – Hoogland C2\nMoira-Domtoren D3 – Vegtlust D1
URL:https://www.moira-domtoren.nl/event/externe-jeugdcompetitie-38/
END:VEVENT
BEGIN:VEVENT
DTSTART;TZID=Europe/Amsterdam:20250509T194500
DTEND;TZID=Europe/Amsterdam:20250509T231500
DTSTAMP:20260424T171342
CREATED:20250322T161151Z
LAST-MODIFIED:20250322T161151Z
UID:73550-1746819900-1746832500@www.moira-domtoren.nl
SUMMARY:Interne competitie
DESCRIPTION:Meedoen? Meld je aan op het inschrijfformulier op de website. Dat kan tot uiterlijk vrijdag 19:30. Aanmelden in de speelzaal kan tot uiterlijk 19:45. Info: wedstr@moira-domtoren.nl
URL:https://www.moira-domtoren.nl/event/interne-competitie-34/
END:VEVENT
END:VCALENDAR