BEGIN:VCALENDAR
VERSION:2.0
PRODID:-//Moira-Domtoren - ECPv6.15.11//NONSGML v1.0//EN
CALSCALE:GREGORIAN
METHOD:PUBLISH
X-ORIGINAL-URL:https://www.moira-domtoren.nl
X-WR-CALDESC:Evenementen voor Moira-Domtoren
REFRESH-INTERVAL;VALUE=DURATION:PT1H
X-Robots-Tag:noindex
X-PUBLISHED-TTL:PT1H
BEGIN:VTIMEZONE
TZID:Europe/Amsterdam
BEGIN:DAYLIGHT
TZOFFSETFROM:+0100
TZOFFSETTO:+0200
TZNAME:CEST
DTSTART:20240331T010000
END:DAYLIGHT
BEGIN:STANDARD
TZOFFSETFROM:+0200
TZOFFSETTO:+0100
TZNAME:CET
DTSTART:20241027T010000
END:STANDARD
BEGIN:DAYLIGHT
TZOFFSETFROM:+0100
TZOFFSETTO:+0200
TZNAME:CEST
DTSTART:20250330T010000
END:DAYLIGHT
BEGIN:STANDARD
TZOFFSETFROM:+0200
TZOFFSETTO:+0100
TZNAME:CET
DTSTART:20251026T010000
END:STANDARD
BEGIN:DAYLIGHT
TZOFFSETFROM:+0100
TZOFFSETTO:+0200
TZNAME:CEST
DTSTART:20260329T010000
END:DAYLIGHT
BEGIN:STANDARD
TZOFFSETFROM:+0200
TZOFFSETTO:+0100
TZNAME:CET
DTSTART:20261025T010000
END:STANDARD
END:VTIMEZONE
BEGIN:VEVENT
DTSTART;TZID=Europe/Amsterdam:20250411T183000
DTEND;TZID=Europe/Amsterdam:20250411T194500
DTSTAMP:20260424T232124
CREATED:20250322T155717Z
LAST-MODIFIED:20250322T155717Z
UID:73530-1744396200-1744400700@www.moira-domtoren.nl
SUMMARY:Jeugdschaak
DESCRIPTION:
URL:https://www.moira-domtoren.nl/event/jeugdschaak-36/
END:VEVENT
BEGIN:VEVENT
DTSTART;TZID=Europe/Amsterdam:20250411T190000
DTEND;TZID=Europe/Amsterdam:20250411T210000
DTSTAMP:20260424T232124
CREATED:20241104T171848Z
LAST-MODIFIED:20241104T171848Z
UID:73137-1744398000-1744405200@www.moira-domtoren.nl
SUMMARY:Externe jeugdcompetitie
DESCRIPTION:Moira-Domtoren B2 – BSG B1\nMoira-Domtoren C1 – Kasteel Lekstroom C1\nBaarnse S.V. A1 – Moira-Domtoren A1\nGooise Schaakvereniging A1 – Moira-Domtoren A2\nMagnus D4 – Moira-Domtoren D3
URL:https://www.moira-domtoren.nl/event/externe-jeugdcompetitie-35/
END:VEVENT
BEGIN:VEVENT
DTSTART;TZID=Europe/Amsterdam:20250411T194500
DTEND;TZID=Europe/Amsterdam:20250411T231500
DTSTAMP:20260424T232124
CREATED:20250322T161008Z
LAST-MODIFIED:20250322T161008Z
UID:73544-1744400700-1744413300@www.moira-domtoren.nl
SUMMARY:Interne competitie
DESCRIPTION:Meedoen? Meld je aan op het inschrijfformulier op de website. Dat kan tot uiterlijk vrijdag 19:30. Aanmelden in de speelzaal kan tot uiterlijk 19:45. Info: wedstr@moira-domtoren.nl
URL:https://www.moira-domtoren.nl/event/interne-competitie-31/
END:VEVENT
BEGIN:VEVENT
DTSTART;TZID=Europe/Amsterdam:20250411T194500
DTEND;TZID=Europe/Amsterdam:20250411T233000
DTSTAMP:20260424T232124
CREATED:20240907T154951Z
LAST-MODIFIED:20240907T154951Z
UID:72801-1744400700-1744414200@www.moira-domtoren.nl
SUMMARY:Externe competitie SOS
DESCRIPTION:SSC 1922 1 – Moira-Domtoren 1
URL:https://www.moira-domtoren.nl/event/externe-competitie-sos-22/
END:VEVENT
END:VCALENDAR