BEGIN:VCALENDAR
VERSION:2.0
PRODID:-//Moira-Domtoren - ECPv6.15.11//NONSGML v1.0//EN
CALSCALE:GREGORIAN
METHOD:PUBLISH
X-ORIGINAL-URL:https://www.moira-domtoren.nl
X-WR-CALDESC:Evenementen voor Moira-Domtoren
REFRESH-INTERVAL;VALUE=DURATION:PT1H
X-Robots-Tag:noindex
X-PUBLISHED-TTL:PT1H
BEGIN:VTIMEZONE
TZID:Europe/Amsterdam
BEGIN:DAYLIGHT
TZOFFSETFROM:+0100
TZOFFSETTO:+0200
TZNAME:CEST
DTSTART:20240331T010000
END:DAYLIGHT
BEGIN:STANDARD
TZOFFSETFROM:+0200
TZOFFSETTO:+0100
TZNAME:CET
DTSTART:20241027T010000
END:STANDARD
BEGIN:DAYLIGHT
TZOFFSETFROM:+0100
TZOFFSETTO:+0200
TZNAME:CEST
DTSTART:20250330T010000
END:DAYLIGHT
BEGIN:STANDARD
TZOFFSETFROM:+0200
TZOFFSETTO:+0100
TZNAME:CET
DTSTART:20251026T010000
END:STANDARD
BEGIN:DAYLIGHT
TZOFFSETFROM:+0100
TZOFFSETTO:+0200
TZNAME:CEST
DTSTART:20260329T010000
END:DAYLIGHT
BEGIN:STANDARD
TZOFFSETFROM:+0200
TZOFFSETTO:+0100
TZNAME:CET
DTSTART:20261025T010000
END:STANDARD
END:VTIMEZONE
BEGIN:VEVENT
DTSTART;TZID=Europe/Amsterdam:20250328T180000
DTEND;TZID=Europe/Amsterdam:20250328T194500
DTSTAMP:20260424T215013
CREATED:20250215T174617Z
LAST-MODIFIED:20250215T174943Z
UID:73460-1743184800-1743191100@www.moira-domtoren.nl
SUMMARY:Jeugdschaak
DESCRIPTION:
URL:https://www.moira-domtoren.nl/event/jeugdschaak-34/
END:VEVENT
BEGIN:VEVENT
DTSTART;TZID=Europe/Amsterdam:20250328T190000
DTEND;TZID=Europe/Amsterdam:20250328T203000
DTSTAMP:20260424T215013
CREATED:20241104T171645Z
LAST-MODIFIED:20241104T172312Z
UID:73131-1743188400-1743193800@www.moira-domtoren.nl
SUMMARY:Externe jeugdcompetitie
DESCRIPTION:Moira-Domtoren C2 – BSG C1\nMoira-Domtoren D2 – Vegtlust D1
URL:https://www.moira-domtoren.nl/event/externe-competitie-7/
END:VEVENT
BEGIN:VEVENT
DTSTART;TZID=Europe/Amsterdam:20250328T194500
DTEND;TZID=Europe/Amsterdam:20250328T223000
DTSTAMP:20260424T215013
CREATED:20250215T175428Z
LAST-MODIFIED:20250215T175428Z
UID:73466-1743191100-1743201000@www.moira-domtoren.nl
SUMMARY:Rapidavond
DESCRIPTION:Slotavond van het Rapidkampioenschap 2025\, met ronde 7 t/m 9. Eerdere rondes gemist? Je start met 3 byes!!! Meld je aan op het inschrijfformulier op de website. Dat kan tot uiterlijk vrijdag 19:30. Aanmelden in de speelzaal kan tot uiterlijk 19:45. Info: wedstr@moira-domtoren.nl
URL:https://www.moira-domtoren.nl/event/rapidavond-3/
END:VEVENT
END:VCALENDAR