BEGIN:VCALENDAR
VERSION:2.0
PRODID:-//Moira-Domtoren - ECPv6.15.11//NONSGML v1.0//EN
CALSCALE:GREGORIAN
METHOD:PUBLISH
X-ORIGINAL-URL:https://www.moira-domtoren.nl
X-WR-CALDESC:Evenementen voor Moira-Domtoren
REFRESH-INTERVAL;VALUE=DURATION:PT1H
X-Robots-Tag:noindex
X-PUBLISHED-TTL:PT1H
BEGIN:VTIMEZONE
TZID:Europe/Amsterdam
BEGIN:DAYLIGHT
TZOFFSETFROM:+0100
TZOFFSETTO:+0200
TZNAME:CEST
DTSTART:20240331T010000
END:DAYLIGHT
BEGIN:STANDARD
TZOFFSETFROM:+0200
TZOFFSETTO:+0100
TZNAME:CET
DTSTART:20241027T010000
END:STANDARD
BEGIN:DAYLIGHT
TZOFFSETFROM:+0100
TZOFFSETTO:+0200
TZNAME:CEST
DTSTART:20250330T010000
END:DAYLIGHT
BEGIN:STANDARD
TZOFFSETFROM:+0200
TZOFFSETTO:+0100
TZNAME:CET
DTSTART:20251026T010000
END:STANDARD
BEGIN:DAYLIGHT
TZOFFSETFROM:+0100
TZOFFSETTO:+0200
TZNAME:CEST
DTSTART:20260329T010000
END:DAYLIGHT
BEGIN:STANDARD
TZOFFSETFROM:+0200
TZOFFSETTO:+0100
TZNAME:CET
DTSTART:20261025T010000
END:STANDARD
END:VTIMEZONE
BEGIN:VEVENT
DTSTART;TZID=Europe/Amsterdam:20250314T180000
DTEND;TZID=Europe/Amsterdam:20250314T194500
DTSTAMP:20260424T232309
CREATED:20250215T174521Z
LAST-MODIFIED:20250215T174521Z
UID:73456-1741975200-1741981500@www.moira-domtoren.nl
SUMMARY:Jeugdschaak
DESCRIPTION:
URL:https://www.moira-domtoren.nl/event/jeugdschaak-32/
END:VEVENT
BEGIN:VEVENT
DTSTART;TZID=Europe/Amsterdam:20250314T190000
DTEND;TZID=Europe/Amsterdam:20250314T203000
DTSTAMP:20260424T232309
CREATED:20241104T171351Z
LAST-MODIFIED:20241104T171351Z
UID:73127-1741978800-1741984200@www.moira-domtoren.nl
SUMMARY:Externe jeugdcompetitie
DESCRIPTION:Moira-Domtoren B1 – Kasteel Lekstroom B1\nMoira-Domtoren D3 – HSG D1\nMagnus B2 – Moira-Domtoren B2\nAmersfoort C1 – Moira-Domtoren C1
URL:https://www.moira-domtoren.nl/event/externe-jeugdcompetitie-31/
END:VEVENT
BEGIN:VEVENT
DTSTART;TZID=Europe/Amsterdam:20250314T194500
DTEND;TZID=Europe/Amsterdam:20250314T231500
DTSTAMP:20260424T232309
CREATED:20250215T175648Z
LAST-MODIFIED:20250215T175648Z
UID:73472-1741981500-1741994100@www.moira-domtoren.nl
SUMMARY:Interne competitie
DESCRIPTION:Meedoen? Meld je aan op het inschrijfformulier op de website. Dat kan tot uiterlijk vrijdag 19:30. Aanmelden in de speelzaal kan tot uiterlijk 19:45. Info: wedstr@moira-domtoren.nl
URL:https://www.moira-domtoren.nl/event/interne-competitie-29/
END:VEVENT
BEGIN:VEVENT
DTSTART;TZID=Europe/Amsterdam:20250314T200000
DTEND;TZID=Europe/Amsterdam:20250314T233000
DTSTAMP:20260424T232309
CREATED:20240907T154900Z
LAST-MODIFIED:20240907T154900Z
UID:72799-1741982400-1741995000@www.moira-domtoren.nl
SUMMARY:Externe competitie SOS
DESCRIPTION:Moira-Domtoren 1 – En Passant 1\nMoira-Domtoren 3 – De Rode Loper 1
URL:https://www.moira-domtoren.nl/event/externe-competitie-sos-21/
END:VEVENT
END:VCALENDAR