BEGIN:VCALENDAR
VERSION:2.0
PRODID:-//Moira-Domtoren - ECPv6.15.11//NONSGML v1.0//EN
CALSCALE:GREGORIAN
METHOD:PUBLISH
X-WR-CALNAME:Moira-Domtoren
X-ORIGINAL-URL:https://www.moira-domtoren.nl
X-WR-CALDESC:Evenementen voor Moira-Domtoren
REFRESH-INTERVAL;VALUE=DURATION:PT1H
X-Robots-Tag:noindex
X-PUBLISHED-TTL:PT1H
BEGIN:VTIMEZONE
TZID:Europe/Amsterdam
BEGIN:DAYLIGHT
TZOFFSETFROM:+0100
TZOFFSETTO:+0200
TZNAME:CEST
DTSTART:20240331T010000
END:DAYLIGHT
BEGIN:STANDARD
TZOFFSETFROM:+0200
TZOFFSETTO:+0100
TZNAME:CET
DTSTART:20241027T010000
END:STANDARD
BEGIN:DAYLIGHT
TZOFFSETFROM:+0100
TZOFFSETTO:+0200
TZNAME:CEST
DTSTART:20250330T010000
END:DAYLIGHT
BEGIN:STANDARD
TZOFFSETFROM:+0200
TZOFFSETTO:+0100
TZNAME:CET
DTSTART:20251026T010000
END:STANDARD
BEGIN:DAYLIGHT
TZOFFSETFROM:+0100
TZOFFSETTO:+0200
TZNAME:CEST
DTSTART:20260329T010000
END:DAYLIGHT
BEGIN:STANDARD
TZOFFSETFROM:+0200
TZOFFSETTO:+0100
TZNAME:CET
DTSTART:20261025T010000
END:STANDARD
END:VTIMEZONE
BEGIN:VEVENT
DTSTART;TZID=Europe/Amsterdam:20250214T183000
DTEND;TZID=Europe/Amsterdam:20250214T194500
DTSTAMP:20260424T231720
CREATED:20250201T173334Z
LAST-MODIFIED:20250201T173334Z
UID:73416-1739557800-1739562300@www.moira-domtoren.nl
SUMMARY:Jeugdschaak
DESCRIPTION:
URL:https://www.moira-domtoren.nl/event/jeugdschaak-28/
END:VEVENT
BEGIN:VEVENT
DTSTART;TZID=Europe/Amsterdam:20250214T190000
DTEND;TZID=Europe/Amsterdam:20250214T210000
DTSTAMP:20260424T231720
CREATED:20241104T171152Z
LAST-MODIFIED:20241104T171152Z
UID:73121-1739559600-1739566800@www.moira-domtoren.nl
SUMMARY:Externe jeugdcompetitie
DESCRIPTION:Moira-Domtoren D1 – Hoogland D1\nMoira-Domtoren D3 – Magnus D3\nDBC A1 – Moira-Domtoren A1\nLarense S.C. A1 – Moira-Domtoren A2\nLarense S.C. C1 – Moira-Domtoren C2\nMagnus D4 – Moira-Domtoren D2
URL:https://www.moira-domtoren.nl/event/externe-jeugdcompetitie-28/
END:VEVENT
BEGIN:VEVENT
DTSTART;TZID=Europe/Amsterdam:20250214T194500
DTEND;TZID=Europe/Amsterdam:20250214T231500
DTSTAMP:20260424T231720
CREATED:20250201T173210Z
LAST-MODIFIED:20250201T173210Z
UID:73412-1739562300-1739574900@www.moira-domtoren.nl
SUMMARY:Interne competitie
DESCRIPTION:Meedoen? Meld je aan op het inschrijfformulier op de website. Dat kan tot uiterlijk vrijdag 19:30. Aanmelden in de speelzaal kan tot uiterlijk 19:45. Info: wedstr@moira-domtoren.nl
URL:https://www.moira-domtoren.nl/event/interne-competitie-26/
END:VEVENT
BEGIN:VEVENT
DTSTART;TZID=Europe/Amsterdam:20250214T200000
DTEND;TZID=Europe/Amsterdam:20250214T233000
DTSTAMP:20260424T231720
CREATED:20240907T154554Z
LAST-MODIFIED:20240907T154554Z
UID:72791-1739563200-1739575800@www.moira-domtoren.nl
SUMMARY:Externe competitie SOS
DESCRIPTION:Moira-Domtoren 2 – BDSV Barneveld 1\nMoira-Domtoren 4 – TRIO 1
URL:https://www.moira-domtoren.nl/event/externe-competitie-sos-17/
END:VEVENT
END:VCALENDAR