BEGIN:VCALENDAR
VERSION:2.0
PRODID:-//Moira-Domtoren - ECPv6.15.11//NONSGML v1.0//EN
CALSCALE:GREGORIAN
METHOD:PUBLISH
X-ORIGINAL-URL:https://www.moira-domtoren.nl
X-WR-CALDESC:Evenementen voor Moira-Domtoren
REFRESH-INTERVAL;VALUE=DURATION:PT1H
X-Robots-Tag:noindex
X-PUBLISHED-TTL:PT1H
BEGIN:VTIMEZONE
TZID:Europe/Amsterdam
BEGIN:DAYLIGHT
TZOFFSETFROM:+0100
TZOFFSETTO:+0200
TZNAME:CEST
DTSTART:20240331T010000
END:DAYLIGHT
BEGIN:STANDARD
TZOFFSETFROM:+0200
TZOFFSETTO:+0100
TZNAME:CET
DTSTART:20241027T010000
END:STANDARD
BEGIN:DAYLIGHT
TZOFFSETFROM:+0100
TZOFFSETTO:+0200
TZNAME:CEST
DTSTART:20250330T010000
END:DAYLIGHT
BEGIN:STANDARD
TZOFFSETFROM:+0200
TZOFFSETTO:+0100
TZNAME:CET
DTSTART:20251026T010000
END:STANDARD
BEGIN:DAYLIGHT
TZOFFSETFROM:+0100
TZOFFSETTO:+0200
TZNAME:CEST
DTSTART:20260329T010000
END:DAYLIGHT
BEGIN:STANDARD
TZOFFSETFROM:+0200
TZOFFSETTO:+0100
TZNAME:CET
DTSTART:20261025T010000
END:STANDARD
END:VTIMEZONE
BEGIN:VEVENT
DTSTART;TZID=Europe/Amsterdam:20250124T183000
DTEND;TZID=Europe/Amsterdam:20250124T194500
DTSTAMP:20260425T035015
CREATED:20241208T165114Z
LAST-MODIFIED:20241208T165114Z
UID:73285-1737743400-1737747900@www.moira-domtoren.nl
SUMMARY:Jeugdschaak
DESCRIPTION:
URL:https://www.moira-domtoren.nl/event/jeugdschaak-25/
END:VEVENT
BEGIN:VEVENT
DTSTART;TZID=Europe/Amsterdam:20250124T190000
DTEND;TZID=Europe/Amsterdam:20250124T210000
DTSTAMP:20260425T035015
CREATED:20241104T170818Z
LAST-MODIFIED:20241104T170818Z
UID:73111-1737745200-1737752400@www.moira-domtoren.nl
SUMMARY:Externe jeugdcompetitie
DESCRIPTION:Moira-Domtoren A2 – Magnus A1\nMoira-Domtoren C2 – Soest C1
URL:https://www.moira-domtoren.nl/event/externe-jeugdcompetitie-23/
END:VEVENT
BEGIN:VEVENT
DTSTART;TZID=Europe/Amsterdam:20250124T194500
DTEND;TZID=Europe/Amsterdam:20250124T231500
DTSTAMP:20260425T035015
CREATED:20241208T164705Z
LAST-MODIFIED:20241208T164705Z
UID:73277-1737747900-1737760500@www.moira-domtoren.nl
SUMMARY:Interne competitie
DESCRIPTION:Meedoen? Meld je aan op het inschrijfformulier op de website. Dat kan tot uiterlijk vrijdag 19:30. Aanmelden in de speelzaal kan tot uiterlijk 19:45. Info: wedstr@moira-domtoren.nl
URL:https://www.moira-domtoren.nl/event/interne-competitie-23/
END:VEVENT
END:VCALENDAR