BEGIN:VCALENDAR
VERSION:2.0
PRODID:-//Moira-Domtoren - ECPv6.15.11//NONSGML v1.0//EN
CALSCALE:GREGORIAN
METHOD:PUBLISH
X-WR-CALNAME:Moira-Domtoren
X-ORIGINAL-URL:https://www.moira-domtoren.nl
X-WR-CALDESC:Evenementen voor Moira-Domtoren
REFRESH-INTERVAL;VALUE=DURATION:PT1H
X-Robots-Tag:noindex
X-PUBLISHED-TTL:PT1H
BEGIN:VTIMEZONE
TZID:Europe/Amsterdam
BEGIN:DAYLIGHT
TZOFFSETFROM:+0100
TZOFFSETTO:+0200
TZNAME:CEST
DTSTART:20240331T010000
END:DAYLIGHT
BEGIN:STANDARD
TZOFFSETFROM:+0200
TZOFFSETTO:+0100
TZNAME:CET
DTSTART:20241027T010000
END:STANDARD
BEGIN:DAYLIGHT
TZOFFSETFROM:+0100
TZOFFSETTO:+0200
TZNAME:CEST
DTSTART:20250330T010000
END:DAYLIGHT
BEGIN:STANDARD
TZOFFSETFROM:+0200
TZOFFSETTO:+0100
TZNAME:CET
DTSTART:20251026T010000
END:STANDARD
BEGIN:DAYLIGHT
TZOFFSETFROM:+0100
TZOFFSETTO:+0200
TZNAME:CEST
DTSTART:20260329T010000
END:DAYLIGHT
BEGIN:STANDARD
TZOFFSETFROM:+0200
TZOFFSETTO:+0100
TZNAME:CET
DTSTART:20261025T010000
END:STANDARD
END:VTIMEZONE
BEGIN:VEVENT
DTSTART;TZID=Europe/Amsterdam:20250110T183000
DTEND;TZID=Europe/Amsterdam:20250110T194500
DTSTAMP:20260425T034744
CREATED:20241208T164908Z
LAST-MODIFIED:20241208T164908Z
UID:73281-1736533800-1736538300@www.moira-domtoren.nl
SUMMARY:Jeugdschaak
DESCRIPTION:
URL:https://www.moira-domtoren.nl/event/jeugdschaak-23/
END:VEVENT
BEGIN:VEVENT
DTSTART;TZID=Europe/Amsterdam:20250110T190000
DTEND;TZID=Europe/Amsterdam:20250110T203000
DTSTAMP:20260425T034744
CREATED:20241104T170431Z
LAST-MODIFIED:20241104T170431Z
UID:73101-1736535600-1736541000@www.moira-domtoren.nl
SUMMARY:Externe jeugdcompetitie
DESCRIPTION:De Giessen en Linge C1 – Moira-Domtoren C2
URL:https://www.moira-domtoren.nl/event/externe-jeugdcompetitie-18/
END:VEVENT
BEGIN:VEVENT
DTSTART;TZID=Europe/Amsterdam:20250110T194500
DTEND;TZID=Europe/Amsterdam:20250110T231500
DTSTAMP:20260425T034744
CREATED:20241208T164558Z
LAST-MODIFIED:20241208T164558Z
UID:73273-1736538300-1736550900@www.moira-domtoren.nl
SUMMARY:Interne competitie
DESCRIPTION:Meedoen? Meld je aan op het inschrijfformulier op de website. Dat kan tot uiterlijk vrijdag 19:30. Aanmelden in de speelzaal kan tot uiterlijk 19:45. Info: wedstr@moira-domtoren.nl
URL:https://www.moira-domtoren.nl/event/interne-competitie-21/
END:VEVENT
BEGIN:VEVENT
DTSTART;TZID=Europe/Amsterdam:20250110T200000
DTEND;TZID=Europe/Amsterdam:20250110T233000
DTSTAMP:20260425T034744
CREATED:20240907T153438Z
LAST-MODIFIED:20241208T165332Z
UID:72783-1736539200-1736551800@www.moira-domtoren.nl
SUMMARY:Externe competitie SOS
DESCRIPTION:Moira-Domtoren 1 – DBC 1\nMoira-Domtoren 3 – OZU 1
URL:https://www.moira-domtoren.nl/event/externe-competitie-sos-13/
END:VEVENT
END:VCALENDAR