BEGIN:VCALENDAR
VERSION:2.0
PRODID:-//Moira-Domtoren - ECPv6.15.11//NONSGML v1.0//EN
CALSCALE:GREGORIAN
METHOD:PUBLISH
X-ORIGINAL-URL:https://www.moira-domtoren.nl
X-WR-CALDESC:Evenementen voor Moira-Domtoren
REFRESH-INTERVAL;VALUE=DURATION:PT1H
X-Robots-Tag:noindex
X-PUBLISHED-TTL:PT1H
BEGIN:VTIMEZONE
TZID:Europe/Amsterdam
BEGIN:DAYLIGHT
TZOFFSETFROM:+0100
TZOFFSETTO:+0200
TZNAME:CEST
DTSTART:20230326T010000
END:DAYLIGHT
BEGIN:STANDARD
TZOFFSETFROM:+0200
TZOFFSETTO:+0100
TZNAME:CET
DTSTART:20231029T010000
END:STANDARD
BEGIN:DAYLIGHT
TZOFFSETFROM:+0100
TZOFFSETTO:+0200
TZNAME:CEST
DTSTART:20240331T010000
END:DAYLIGHT
BEGIN:STANDARD
TZOFFSETFROM:+0200
TZOFFSETTO:+0100
TZNAME:CET
DTSTART:20241027T010000
END:STANDARD
BEGIN:DAYLIGHT
TZOFFSETFROM:+0100
TZOFFSETTO:+0200
TZNAME:CEST
DTSTART:20250330T010000
END:DAYLIGHT
BEGIN:STANDARD
TZOFFSETFROM:+0200
TZOFFSETTO:+0100
TZNAME:CET
DTSTART:20251026T010000
END:STANDARD
END:VTIMEZONE
BEGIN:VEVENT
DTSTART;TZID=Europe/Amsterdam:20241109T130000
DTEND;TZID=Europe/Amsterdam:20241109T180000
DTSTAMP:20260425T131327
CREATED:20240907T135641Z
LAST-MODIFIED:20240907T150457Z
UID:72731-1731157200-1731175200@www.moira-domtoren.nl
SUMMARY:Externe competitie KNSB
DESCRIPTION:Moira-Domtoren 1 – Amersfoort 1\nMoira-Domtoren 2 – Amersfoort 2\nMoira-Domtoren 3 – Zuidoost United 1\nMoira-Domtoren 4 – Het Kasteel Wijchen 2\nMoira-Domtoren 5 – Amersfoort 5
URL:https://www.moira-domtoren.nl/event/externe-competitie-4/
END:VEVENT
END:VCALENDAR