BEGIN:VCALENDAR
VERSION:2.0
PRODID:-//Moira-Domtoren - ECPv6.15.11//NONSGML v1.0//EN
CALSCALE:GREGORIAN
METHOD:PUBLISH
X-WR-CALNAME:Moira-Domtoren
X-ORIGINAL-URL:https://www.moira-domtoren.nl
X-WR-CALDESC:Evenementen voor Moira-Domtoren
REFRESH-INTERVAL;VALUE=DURATION:PT1H
X-Robots-Tag:noindex
X-PUBLISHED-TTL:PT1H
BEGIN:VTIMEZONE
TZID:Europe/Amsterdam
BEGIN:DAYLIGHT
TZOFFSETFROM:+0100
TZOFFSETTO:+0200
TZNAME:CEST
DTSTART:20230326T010000
END:DAYLIGHT
BEGIN:STANDARD
TZOFFSETFROM:+0200
TZOFFSETTO:+0100
TZNAME:CET
DTSTART:20231029T010000
END:STANDARD
BEGIN:DAYLIGHT
TZOFFSETFROM:+0100
TZOFFSETTO:+0200
TZNAME:CEST
DTSTART:20240331T010000
END:DAYLIGHT
BEGIN:STANDARD
TZOFFSETFROM:+0200
TZOFFSETTO:+0100
TZNAME:CET
DTSTART:20241027T010000
END:STANDARD
BEGIN:DAYLIGHT
TZOFFSETFROM:+0100
TZOFFSETTO:+0200
TZNAME:CEST
DTSTART:20250330T010000
END:DAYLIGHT
BEGIN:STANDARD
TZOFFSETFROM:+0200
TZOFFSETTO:+0100
TZNAME:CET
DTSTART:20251026T010000
END:STANDARD
END:VTIMEZONE
BEGIN:VEVENT
DTSTART;TZID=Europe/Amsterdam:20241018T183000
DTEND;TZID=Europe/Amsterdam:20241018T194500
DTSTAMP:20260425T204405
CREATED:20241001T192248Z
LAST-MODIFIED:20241001T192248Z
UID:72944-1729276200-1729280700@www.moira-domtoren.nl
SUMMARY:Jeugdschaak
DESCRIPTION:
URL:https://www.moira-domtoren.nl/event/jeugdschaak-15/
END:VEVENT
BEGIN:VEVENT
DTSTART;TZID=Europe/Amsterdam:20241018T194500
DTEND;TZID=Europe/Amsterdam:20241018T233000
DTSTAMP:20260425T204405
CREATED:20241001T192529Z
LAST-MODIFIED:20241001T192529Z
UID:72951-1729280700-1729294200@www.moira-domtoren.nl
SUMMARY:Interne competitie
DESCRIPTION:
URL:https://www.moira-domtoren.nl/event/interne-competitie-11/
END:VEVENT
BEGIN:VEVENT
DTSTART;TZID=Europe/Amsterdam:20241018T200000
DTEND;TZID=Europe/Amsterdam:20241018T233000
DTSTAMP:20260425T204405
CREATED:20240907T152918Z
LAST-MODIFIED:20241001T191913Z
UID:72771-1729281600-1729294200@www.moira-domtoren.nl
SUMMARY:Externe competitie SOS
DESCRIPTION:Moira-Domtoren 2 – De Rode Loper 2\nMoira-Domtoren 3 – HSG 1\nMoira-Domtoren 4 – De Rode Loper 4
URL:https://www.moira-domtoren.nl/event/externe-competitie-sos-7/
END:VEVENT
END:VCALENDAR